BEGIN:VCALENDAR
VERSION:2.0
PRODID:-//St. John the Evangelist Catholic Church of Valley - ECPv6.15.20//NONSGML v1.0//EN
CALSCALE:GREGORIAN
METHOD:PUBLISH
X-ORIGINAL-URL:https://stjohnvalleyne.com
X-WR-CALDESC:Events for St. John the Evangelist Catholic Church of Valley
REFRESH-INTERVAL;VALUE=DURATION:PT1H
X-Robots-Tag:noindex
X-PUBLISHED-TTL:PT1H
BEGIN:VTIMEZONE
TZID:America/Chicago
BEGIN:DAYLIGHT
TZOFFSETFROM:-0600
TZOFFSETTO:-0500
TZNAME:CDT
DTSTART:20270314T080000
END:DAYLIGHT
BEGIN:STANDARD
TZOFFSETFROM:-0500
TZOFFSETTO:-0600
TZNAME:CST
DTSTART:20271107T070000
END:STANDARD
BEGIN:DAYLIGHT
TZOFFSETFROM:-0600
TZOFFSETTO:-0500
TZNAME:CDT
DTSTART:20280312T080000
END:DAYLIGHT
BEGIN:STANDARD
TZOFFSETFROM:-0500
TZOFFSETTO:-0600
TZNAME:CST
DTSTART:20281105T070000
END:STANDARD
BEGIN:DAYLIGHT
TZOFFSETFROM:-0600
TZOFFSETTO:-0500
TZNAME:CDT
DTSTART:20290311T080000
END:DAYLIGHT
BEGIN:STANDARD
TZOFFSETFROM:-0500
TZOFFSETTO:-0600
TZNAME:CST
DTSTART:20291104T070000
END:STANDARD
BEGIN:DAYLIGHT
TZOFFSETFROM:-0600
TZOFFSETTO:-0500
TZNAME:CDT
DTSTART:20300310T080000
END:DAYLIGHT
BEGIN:STANDARD
TZOFFSETFROM:-0500
TZOFFSETTO:-0600
TZNAME:CST
DTSTART:20301103T070000
END:STANDARD
END:VTIMEZONE
BEGIN:VEVENT
DTSTART;TZID=America/Chicago:20281011T080000
DTEND;TZID=America/Chicago:20281011T200000
DTSTAMP:20260422T050116
CREATED:20251030T153315Z
LAST-MODIFIED:20251030T153316Z
UID:10000442-1854864000-1854907200@stjohnvalleyne.com
SUMMARY:Siena Francis Food Drive (Parish Hall Kitchen)
DESCRIPTION:Siena Francis Food Drive. Drop off 2nd Wednesday of the Month from 8am-8pm and 2nd Thursday of the Month from 8am-Noon.  The truck leave on Thursday at 11am\, to drop off the meal donations. Questions or to volunteer to help\, visit our ‘Get Involved’ page
URL:https://stjohnvalleyne.com/event/siena-francis-food-drive-parish-hall-3/2028-10-11/
LOCATION:Parish Hall-Kitchen\, 307 E. Meigs Street\, Valley\, NE\, 68064
ORGANIZER;CN="Beth Kudlacz":MAILTO:msmek1@gmail.com
END:VEVENT
BEGIN:VEVENT
DTSTART;TZID=America/Chicago:20281012T080000
DTEND;TZID=America/Chicago:20281012T110000
DTSTAMP:20260422T050116
CREATED:20240530T215846Z
LAST-MODIFIED:20251030T153240Z
UID:10000502-1854950400-1854961200@stjohnvalleyne.com
SUMMARY:Siena Francis Food Drive (Parish Hall Kitchen)
DESCRIPTION:Siena Francis Food Drive. Drop off 2nd Wednesday of the Month from 8am-8pm and 2nd Thursday of the Month from 8am-Noon.  The truck leave on Thursday at 11am\, to drop off the meal donations. Questions or to volunteer to help\, visit our ‘Get Involved’ page
URL:https://stjohnvalleyne.com/event/siena-francis-food-drive-parish-hall-2/2028-10-12/
LOCATION:Parish Hall-Kitchen\, 307 E. Meigs Street\, Valley\, NE\, 68064
ORGANIZER;CN="Beth Kudlacz":MAILTO:msmek1@gmail.com
END:VEVENT
BEGIN:VEVENT
DTSTART;TZID=America/Chicago:20281108T080000
DTEND;TZID=America/Chicago:20281108T200000
DTSTAMP:20260422T050116
CREATED:20251030T153315Z
LAST-MODIFIED:20251030T153316Z
UID:10000443-1857283200-1857326400@stjohnvalleyne.com
SUMMARY:Siena Francis Food Drive (Parish Hall Kitchen)
DESCRIPTION:Siena Francis Food Drive. Drop off 2nd Wednesday of the Month from 8am-8pm and 2nd Thursday of the Month from 8am-Noon.  The truck leave on Thursday at 11am\, to drop off the meal donations. Questions or to volunteer to help\, visit our ‘Get Involved’ page
URL:https://stjohnvalleyne.com/event/siena-francis-food-drive-parish-hall-3/2028-11-08/
LOCATION:Parish Hall-Kitchen\, 307 E. Meigs Street\, Valley\, NE\, 68064
ORGANIZER;CN="Beth Kudlacz":MAILTO:msmek1@gmail.com
END:VEVENT
BEGIN:VEVENT
DTSTART;TZID=America/Chicago:20281109T080000
DTEND;TZID=America/Chicago:20281109T110000
DTSTAMP:20260422T050116
CREATED:20240530T215846Z
LAST-MODIFIED:20251030T153240Z
UID:10000503-1857369600-1857380400@stjohnvalleyne.com
SUMMARY:Siena Francis Food Drive (Parish Hall Kitchen)
DESCRIPTION:Siena Francis Food Drive. Drop off 2nd Wednesday of the Month from 8am-8pm and 2nd Thursday of the Month from 8am-Noon.  The truck leave on Thursday at 11am\, to drop off the meal donations. Questions or to volunteer to help\, visit our ‘Get Involved’ page
URL:https://stjohnvalleyne.com/event/siena-francis-food-drive-parish-hall-2/2028-11-09/
LOCATION:Parish Hall-Kitchen\, 307 E. Meigs Street\, Valley\, NE\, 68064
ORGANIZER;CN="Beth Kudlacz":MAILTO:msmek1@gmail.com
END:VEVENT
BEGIN:VEVENT
DTSTART;TZID=America/Chicago:20281213T080000
DTEND;TZID=America/Chicago:20281213T200000
DTSTAMP:20260422T050116
CREATED:20251030T153315Z
LAST-MODIFIED:20251030T153316Z
UID:10000444-1860307200-1860350400@stjohnvalleyne.com
SUMMARY:Siena Francis Food Drive (Parish Hall Kitchen)
DESCRIPTION:Siena Francis Food Drive. Drop off 2nd Wednesday of the Month from 8am-8pm and 2nd Thursday of the Month from 8am-Noon.  The truck leave on Thursday at 11am\, to drop off the meal donations. Questions or to volunteer to help\, visit our ‘Get Involved’ page
URL:https://stjohnvalleyne.com/event/siena-francis-food-drive-parish-hall-3/2028-12-13/
LOCATION:Parish Hall-Kitchen\, 307 E. Meigs Street\, Valley\, NE\, 68064
ORGANIZER;CN="Beth Kudlacz":MAILTO:msmek1@gmail.com
END:VEVENT
BEGIN:VEVENT
DTSTART;TZID=America/Chicago:20281214T080000
DTEND;TZID=America/Chicago:20281214T110000
DTSTAMP:20260422T050116
CREATED:20240530T215846Z
LAST-MODIFIED:20251030T153240Z
UID:10000504-1860393600-1860404400@stjohnvalleyne.com
SUMMARY:Siena Francis Food Drive (Parish Hall Kitchen)
DESCRIPTION:Siena Francis Food Drive. Drop off 2nd Wednesday of the Month from 8am-8pm and 2nd Thursday of the Month from 8am-Noon.  The truck leave on Thursday at 11am\, to drop off the meal donations. Questions or to volunteer to help\, visit our ‘Get Involved’ page
URL:https://stjohnvalleyne.com/event/siena-francis-food-drive-parish-hall-2/2028-12-14/
LOCATION:Parish Hall-Kitchen\, 307 E. Meigs Street\, Valley\, NE\, 68064
ORGANIZER;CN="Beth Kudlacz":MAILTO:msmek1@gmail.com
END:VEVENT
BEGIN:VEVENT
DTSTART;TZID=America/Chicago:20290110T080000
DTEND;TZID=America/Chicago:20290110T200000
DTSTAMP:20260422T050116
CREATED:20251030T153315Z
LAST-MODIFIED:20251030T153316Z
UID:10000445-1862726400-1862769600@stjohnvalleyne.com
SUMMARY:Siena Francis Food Drive (Parish Hall Kitchen)
DESCRIPTION:Siena Francis Food Drive. Drop off 2nd Wednesday of the Month from 8am-8pm and 2nd Thursday of the Month from 8am-Noon.  The truck leave on Thursday at 11am\, to drop off the meal donations. Questions or to volunteer to help\, visit our ‘Get Involved’ page
URL:https://stjohnvalleyne.com/event/siena-francis-food-drive-parish-hall-3/2029-01-10/
LOCATION:Parish Hall-Kitchen\, 307 E. Meigs Street\, Valley\, NE\, 68064
ORGANIZER;CN="Beth Kudlacz":MAILTO:msmek1@gmail.com
END:VEVENT
BEGIN:VEVENT
DTSTART;TZID=America/Chicago:20290111T080000
DTEND;TZID=America/Chicago:20290111T110000
DTSTAMP:20260422T050116
CREATED:20240530T215846Z
LAST-MODIFIED:20251030T153240Z
UID:10000505-1862812800-1862823600@stjohnvalleyne.com
SUMMARY:Siena Francis Food Drive (Parish Hall Kitchen)
DESCRIPTION:Siena Francis Food Drive. Drop off 2nd Wednesday of the Month from 8am-8pm and 2nd Thursday of the Month from 8am-Noon.  The truck leave on Thursday at 11am\, to drop off the meal donations. Questions or to volunteer to help\, visit our ‘Get Involved’ page
URL:https://stjohnvalleyne.com/event/siena-francis-food-drive-parish-hall-2/2029-01-11/
LOCATION:Parish Hall-Kitchen\, 307 E. Meigs Street\, Valley\, NE\, 68064
ORGANIZER;CN="Beth Kudlacz":MAILTO:msmek1@gmail.com
END:VEVENT
BEGIN:VEVENT
DTSTART;TZID=America/Chicago:20290208T080000
DTEND;TZID=America/Chicago:20290208T110000
DTSTAMP:20260422T050116
CREATED:20240530T215846Z
LAST-MODIFIED:20251030T153240Z
UID:10000506-1865232000-1865242800@stjohnvalleyne.com
SUMMARY:Siena Francis Food Drive (Parish Hall Kitchen)
DESCRIPTION:Siena Francis Food Drive. Drop off 2nd Wednesday of the Month from 8am-8pm and 2nd Thursday of the Month from 8am-Noon.  The truck leave on Thursday at 11am\, to drop off the meal donations. Questions or to volunteer to help\, visit our ‘Get Involved’ page
URL:https://stjohnvalleyne.com/event/siena-francis-food-drive-parish-hall-2/2029-02-08/
LOCATION:Parish Hall-Kitchen\, 307 E. Meigs Street\, Valley\, NE\, 68064
ORGANIZER;CN="Beth Kudlacz":MAILTO:msmek1@gmail.com
END:VEVENT
BEGIN:VEVENT
DTSTART;TZID=America/Chicago:20290214T080000
DTEND;TZID=America/Chicago:20290214T200000
DTSTAMP:20260422T050116
CREATED:20251030T153315Z
LAST-MODIFIED:20251030T153316Z
UID:10000446-1865750400-1865793600@stjohnvalleyne.com
SUMMARY:Siena Francis Food Drive (Parish Hall Kitchen)
DESCRIPTION:Siena Francis Food Drive. Drop off 2nd Wednesday of the Month from 8am-8pm and 2nd Thursday of the Month from 8am-Noon.  The truck leave on Thursday at 11am\, to drop off the meal donations. Questions or to volunteer to help\, visit our ‘Get Involved’ page
URL:https://stjohnvalleyne.com/event/siena-francis-food-drive-parish-hall-3/2029-02-14/
LOCATION:Parish Hall-Kitchen\, 307 E. Meigs Street\, Valley\, NE\, 68064
ORGANIZER;CN="Beth Kudlacz":MAILTO:msmek1@gmail.com
END:VEVENT
BEGIN:VEVENT
DTSTART;TZID=America/Chicago:20290308T080000
DTEND;TZID=America/Chicago:20290308T110000
DTSTAMP:20260422T050116
CREATED:20240530T215846Z
LAST-MODIFIED:20251030T153240Z
UID:10000507-1867651200-1867662000@stjohnvalleyne.com
SUMMARY:Siena Francis Food Drive (Parish Hall Kitchen)
DESCRIPTION:Siena Francis Food Drive. Drop off 2nd Wednesday of the Month from 8am-8pm and 2nd Thursday of the Month from 8am-Noon.  The truck leave on Thursday at 11am\, to drop off the meal donations. Questions or to volunteer to help\, visit our ‘Get Involved’ page
URL:https://stjohnvalleyne.com/event/siena-francis-food-drive-parish-hall-2/2029-03-08/
LOCATION:Parish Hall-Kitchen\, 307 E. Meigs Street\, Valley\, NE\, 68064
ORGANIZER;CN="Beth Kudlacz":MAILTO:msmek1@gmail.com
END:VEVENT
BEGIN:VEVENT
DTSTART;TZID=America/Chicago:20290314T080000
DTEND;TZID=America/Chicago:20290314T200000
DTSTAMP:20260422T050116
CREATED:20251030T153315Z
LAST-MODIFIED:20251030T153316Z
UID:10000447-1868169600-1868212800@stjohnvalleyne.com
SUMMARY:Siena Francis Food Drive (Parish Hall Kitchen)
DESCRIPTION:Siena Francis Food Drive. Drop off 2nd Wednesday of the Month from 8am-8pm and 2nd Thursday of the Month from 8am-Noon.  The truck leave on Thursday at 11am\, to drop off the meal donations. Questions or to volunteer to help\, visit our ‘Get Involved’ page
URL:https://stjohnvalleyne.com/event/siena-francis-food-drive-parish-hall-3/2029-03-14/
LOCATION:Parish Hall-Kitchen\, 307 E. Meigs Street\, Valley\, NE\, 68064
ORGANIZER;CN="Beth Kudlacz":MAILTO:msmek1@gmail.com
END:VEVENT
BEGIN:VEVENT
DTSTART;TZID=America/Chicago:20290411T080000
DTEND;TZID=America/Chicago:20290411T200000
DTSTAMP:20260422T050116
CREATED:20251030T153315Z
LAST-MODIFIED:20251030T153316Z
UID:10000448-1870588800-1870632000@stjohnvalleyne.com
SUMMARY:Siena Francis Food Drive (Parish Hall Kitchen)
DESCRIPTION:Siena Francis Food Drive. Drop off 2nd Wednesday of the Month from 8am-8pm and 2nd Thursday of the Month from 8am-Noon.  The truck leave on Thursday at 11am\, to drop off the meal donations. Questions or to volunteer to help\, visit our ‘Get Involved’ page
URL:https://stjohnvalleyne.com/event/siena-francis-food-drive-parish-hall-3/2029-04-11/
LOCATION:Parish Hall-Kitchen\, 307 E. Meigs Street\, Valley\, NE\, 68064
ORGANIZER;CN="Beth Kudlacz":MAILTO:msmek1@gmail.com
END:VEVENT
BEGIN:VEVENT
DTSTART;TZID=America/Chicago:20290412T080000
DTEND;TZID=America/Chicago:20290412T110000
DTSTAMP:20260422T050116
CREATED:20240530T215846Z
LAST-MODIFIED:20251030T153240Z
UID:10000508-1870675200-1870686000@stjohnvalleyne.com
SUMMARY:Siena Francis Food Drive (Parish Hall Kitchen)
DESCRIPTION:Siena Francis Food Drive. Drop off 2nd Wednesday of the Month from 8am-8pm and 2nd Thursday of the Month from 8am-Noon.  The truck leave on Thursday at 11am\, to drop off the meal donations. Questions or to volunteer to help\, visit our ‘Get Involved’ page
URL:https://stjohnvalleyne.com/event/siena-francis-food-drive-parish-hall-2/2029-04-12/
LOCATION:Parish Hall-Kitchen\, 307 E. Meigs Street\, Valley\, NE\, 68064
ORGANIZER;CN="Beth Kudlacz":MAILTO:msmek1@gmail.com
END:VEVENT
BEGIN:VEVENT
DTSTART;TZID=America/Chicago:20290509T080000
DTEND;TZID=America/Chicago:20290509T200000
DTSTAMP:20260422T050116
CREATED:20251030T153315Z
LAST-MODIFIED:20251030T153316Z
UID:10000449-1873008000-1873051200@stjohnvalleyne.com
SUMMARY:Siena Francis Food Drive (Parish Hall Kitchen)
DESCRIPTION:Siena Francis Food Drive. Drop off 2nd Wednesday of the Month from 8am-8pm and 2nd Thursday of the Month from 8am-Noon.  The truck leave on Thursday at 11am\, to drop off the meal donations. Questions or to volunteer to help\, visit our ‘Get Involved’ page
URL:https://stjohnvalleyne.com/event/siena-francis-food-drive-parish-hall-3/2029-05-09/
LOCATION:Parish Hall-Kitchen\, 307 E. Meigs Street\, Valley\, NE\, 68064
ORGANIZER;CN="Beth Kudlacz":MAILTO:msmek1@gmail.com
END:VEVENT
BEGIN:VEVENT
DTSTART;TZID=America/Chicago:20290510T080000
DTEND;TZID=America/Chicago:20290510T110000
DTSTAMP:20260422T050116
CREATED:20240530T215846Z
LAST-MODIFIED:20251030T153240Z
UID:10000509-1873094400-1873105200@stjohnvalleyne.com
SUMMARY:Siena Francis Food Drive (Parish Hall Kitchen)
DESCRIPTION:Siena Francis Food Drive. Drop off 2nd Wednesday of the Month from 8am-8pm and 2nd Thursday of the Month from 8am-Noon.  The truck leave on Thursday at 11am\, to drop off the meal donations. Questions or to volunteer to help\, visit our ‘Get Involved’ page
URL:https://stjohnvalleyne.com/event/siena-francis-food-drive-parish-hall-2/2029-05-10/
LOCATION:Parish Hall-Kitchen\, 307 E. Meigs Street\, Valley\, NE\, 68064
ORGANIZER;CN="Beth Kudlacz":MAILTO:msmek1@gmail.com
END:VEVENT
BEGIN:VEVENT
DTSTART;TZID=America/Chicago:20290613T080000
DTEND;TZID=America/Chicago:20290613T200000
DTSTAMP:20260422T050116
CREATED:20251030T153315Z
LAST-MODIFIED:20251030T153316Z
UID:10000749-1876032000-1876075200@stjohnvalleyne.com
SUMMARY:Siena Francis Food Drive (Parish Hall Kitchen)
DESCRIPTION:Siena Francis Food Drive. Drop off 2nd Wednesday of the Month from 8am-8pm and 2nd Thursday of the Month from 8am-Noon.  The truck leave on Thursday at 11am\, to drop off the meal donations. Questions or to volunteer to help\, visit our ‘Get Involved’ page
URL:https://stjohnvalleyne.com/event/siena-francis-food-drive-parish-hall-3/2029-06-13/
LOCATION:Parish Hall-Kitchen\, 307 E. Meigs Street\, Valley\, NE\, 68064
ORGANIZER;CN="Beth Kudlacz":MAILTO:msmek1@gmail.com
END:VEVENT
BEGIN:VEVENT
DTSTART;TZID=America/Chicago:20290614T080000
DTEND;TZID=America/Chicago:20290614T110000
DTSTAMP:20260422T050116
CREATED:20240530T215846Z
LAST-MODIFIED:20251030T153240Z
UID:10000751-1876118400-1876129200@stjohnvalleyne.com
SUMMARY:Siena Francis Food Drive (Parish Hall Kitchen)
DESCRIPTION:Siena Francis Food Drive. Drop off 2nd Wednesday of the Month from 8am-8pm and 2nd Thursday of the Month from 8am-Noon.  The truck leave on Thursday at 11am\, to drop off the meal donations. Questions or to volunteer to help\, visit our ‘Get Involved’ page
URL:https://stjohnvalleyne.com/event/siena-francis-food-drive-parish-hall-2/2029-06-14/
LOCATION:Parish Hall-Kitchen\, 307 E. Meigs Street\, Valley\, NE\, 68064
ORGANIZER;CN="Beth Kudlacz":MAILTO:msmek1@gmail.com
END:VEVENT
BEGIN:VEVENT
DTSTART;TZID=America/Chicago:20290711T080000
DTEND;TZID=America/Chicago:20290711T200000
DTSTAMP:20260422T050116
CREATED:20251030T153315Z
LAST-MODIFIED:20251030T153316Z
UID:10000750-1878451200-1878494400@stjohnvalleyne.com
SUMMARY:Siena Francis Food Drive (Parish Hall Kitchen)
DESCRIPTION:Siena Francis Food Drive. Drop off 2nd Wednesday of the Month from 8am-8pm and 2nd Thursday of the Month from 8am-Noon.  The truck leave on Thursday at 11am\, to drop off the meal donations. Questions or to volunteer to help\, visit our ‘Get Involved’ page
URL:https://stjohnvalleyne.com/event/siena-francis-food-drive-parish-hall-3/2029-07-11/
LOCATION:Parish Hall-Kitchen\, 307 E. Meigs Street\, Valley\, NE\, 68064
ORGANIZER;CN="Beth Kudlacz":MAILTO:msmek1@gmail.com
END:VEVENT
BEGIN:VEVENT
DTSTART;TZID=America/Chicago:20290712T080000
DTEND;TZID=America/Chicago:20290712T110000
DTSTAMP:20260422T050116
CREATED:20240530T215846Z
LAST-MODIFIED:20251030T153240Z
UID:10000752-1878537600-1878548400@stjohnvalleyne.com
SUMMARY:Siena Francis Food Drive (Parish Hall Kitchen)
DESCRIPTION:Siena Francis Food Drive. Drop off 2nd Wednesday of the Month from 8am-8pm and 2nd Thursday of the Month from 8am-Noon.  The truck leave on Thursday at 11am\, to drop off the meal donations. Questions or to volunteer to help\, visit our ‘Get Involved’ page
URL:https://stjohnvalleyne.com/event/siena-francis-food-drive-parish-hall-2/2029-07-12/
LOCATION:Parish Hall-Kitchen\, 307 E. Meigs Street\, Valley\, NE\, 68064
ORGANIZER;CN="Beth Kudlacz":MAILTO:msmek1@gmail.com
END:VEVENT
BEGIN:VEVENT
DTSTART;TZID=America/Chicago:20290808T080000
DTEND;TZID=America/Chicago:20290808T200000
DTSTAMP:20260422T050116
CREATED:20251030T153315Z
LAST-MODIFIED:20251030T153316Z
UID:10002111-1880870400-1880913600@stjohnvalleyne.com
SUMMARY:Siena Francis Food Drive (Parish Hall Kitchen)
DESCRIPTION:Siena Francis Food Drive. Drop off 2nd Wednesday of the Month from 8am-8pm and 2nd Thursday of the Month from 8am-Noon.  The truck leave on Thursday at 11am\, to drop off the meal donations. Questions or to volunteer to help\, visit our ‘Get Involved’ page
URL:https://stjohnvalleyne.com/event/siena-francis-food-drive-parish-hall-3/2029-08-08/
LOCATION:Parish Hall-Kitchen\, 307 E. Meigs Street\, Valley\, NE\, 68064
ORGANIZER;CN="Beth Kudlacz":MAILTO:msmek1@gmail.com
END:VEVENT
BEGIN:VEVENT
DTSTART;TZID=America/Chicago:20290809T080000
DTEND;TZID=America/Chicago:20290809T110000
DTSTAMP:20260422T050116
CREATED:20240530T215846Z
LAST-MODIFIED:20251030T153240Z
UID:10002747-1880956800-1880967600@stjohnvalleyne.com
SUMMARY:Siena Francis Food Drive (Parish Hall Kitchen)
DESCRIPTION:Siena Francis Food Drive. Drop off 2nd Wednesday of the Month from 8am-8pm and 2nd Thursday of the Month from 8am-Noon.  The truck leave on Thursday at 11am\, to drop off the meal donations. Questions or to volunteer to help\, visit our ‘Get Involved’ page
URL:https://stjohnvalleyne.com/event/siena-francis-food-drive-parish-hall-2/2029-08-09/
LOCATION:Parish Hall-Kitchen\, 307 E. Meigs Street\, Valley\, NE\, 68064
ORGANIZER;CN="Beth Kudlacz":MAILTO:msmek1@gmail.com
END:VEVENT
BEGIN:VEVENT
DTSTART;TZID=America/Chicago:20290912T080000
DTEND;TZID=America/Chicago:20290912T200000
DTSTAMP:20260422T050116
CREATED:20251030T153315Z
LAST-MODIFIED:20251030T153316Z
UID:10002112-1883894400-1883937600@stjohnvalleyne.com
SUMMARY:Siena Francis Food Drive (Parish Hall Kitchen)
DESCRIPTION:Siena Francis Food Drive. Drop off 2nd Wednesday of the Month from 8am-8pm and 2nd Thursday of the Month from 8am-Noon.  The truck leave on Thursday at 11am\, to drop off the meal donations. Questions or to volunteer to help\, visit our ‘Get Involved’ page
URL:https://stjohnvalleyne.com/event/siena-francis-food-drive-parish-hall-3/2029-09-12/
LOCATION:Parish Hall-Kitchen\, 307 E. Meigs Street\, Valley\, NE\, 68064
ORGANIZER;CN="Beth Kudlacz":MAILTO:msmek1@gmail.com
END:VEVENT
BEGIN:VEVENT
DTSTART;TZID=America/Chicago:20290913T080000
DTEND;TZID=America/Chicago:20290913T110000
DTSTAMP:20260422T050116
CREATED:20240530T215846Z
LAST-MODIFIED:20251030T153240Z
UID:10002748-1883980800-1883991600@stjohnvalleyne.com
SUMMARY:Siena Francis Food Drive (Parish Hall Kitchen)
DESCRIPTION:Siena Francis Food Drive. Drop off 2nd Wednesday of the Month from 8am-8pm and 2nd Thursday of the Month from 8am-Noon.  The truck leave on Thursday at 11am\, to drop off the meal donations. Questions or to volunteer to help\, visit our ‘Get Involved’ page
URL:https://stjohnvalleyne.com/event/siena-francis-food-drive-parish-hall-2/2029-09-13/
LOCATION:Parish Hall-Kitchen\, 307 E. Meigs Street\, Valley\, NE\, 68064
ORGANIZER;CN="Beth Kudlacz":MAILTO:msmek1@gmail.com
END:VEVENT
BEGIN:VEVENT
DTSTART;TZID=America/Chicago:20291010T080000
DTEND;TZID=America/Chicago:20291010T200000
DTSTAMP:20260422T050116
CREATED:20251030T153315Z
LAST-MODIFIED:20251030T153316Z
UID:10002113-1886313600-1886356800@stjohnvalleyne.com
SUMMARY:Siena Francis Food Drive (Parish Hall Kitchen)
DESCRIPTION:Siena Francis Food Drive. Drop off 2nd Wednesday of the Month from 8am-8pm and 2nd Thursday of the Month from 8am-Noon.  The truck leave on Thursday at 11am\, to drop off the meal donations. Questions or to volunteer to help\, visit our ‘Get Involved’ page
URL:https://stjohnvalleyne.com/event/siena-francis-food-drive-parish-hall-3/2029-10-10/
LOCATION:Parish Hall-Kitchen\, 307 E. Meigs Street\, Valley\, NE\, 68064
ORGANIZER;CN="Beth Kudlacz":MAILTO:msmek1@gmail.com
END:VEVENT
BEGIN:VEVENT
DTSTART;TZID=America/Chicago:20291011T080000
DTEND;TZID=America/Chicago:20291011T110000
DTSTAMP:20260422T050116
CREATED:20240530T215846Z
LAST-MODIFIED:20251030T153240Z
UID:10002749-1886400000-1886410800@stjohnvalleyne.com
SUMMARY:Siena Francis Food Drive (Parish Hall Kitchen)
DESCRIPTION:Siena Francis Food Drive. Drop off 2nd Wednesday of the Month from 8am-8pm and 2nd Thursday of the Month from 8am-Noon.  The truck leave on Thursday at 11am\, to drop off the meal donations. Questions or to volunteer to help\, visit our ‘Get Involved’ page
URL:https://stjohnvalleyne.com/event/siena-francis-food-drive-parish-hall-2/2029-10-11/
LOCATION:Parish Hall-Kitchen\, 307 E. Meigs Street\, Valley\, NE\, 68064
ORGANIZER;CN="Beth Kudlacz":MAILTO:msmek1@gmail.com
END:VEVENT
BEGIN:VEVENT
DTSTART;TZID=America/Chicago:20291108T080000
DTEND;TZID=America/Chicago:20291108T110000
DTSTAMP:20260422T050116
CREATED:20240530T215846Z
LAST-MODIFIED:20251030T153240Z
UID:10002750-1888819200-1888830000@stjohnvalleyne.com
SUMMARY:Siena Francis Food Drive (Parish Hall Kitchen)
DESCRIPTION:Siena Francis Food Drive. Drop off 2nd Wednesday of the Month from 8am-8pm and 2nd Thursday of the Month from 8am-Noon.  The truck leave on Thursday at 11am\, to drop off the meal donations. Questions or to volunteer to help\, visit our ‘Get Involved’ page
URL:https://stjohnvalleyne.com/event/siena-francis-food-drive-parish-hall-2/2029-11-08/
LOCATION:Parish Hall-Kitchen\, 307 E. Meigs Street\, Valley\, NE\, 68064
ORGANIZER;CN="Beth Kudlacz":MAILTO:msmek1@gmail.com
END:VEVENT
BEGIN:VEVENT
DTSTART;TZID=America/Chicago:20291114T080000
DTEND;TZID=America/Chicago:20291114T200000
DTSTAMP:20260422T050116
CREATED:20251030T153315Z
LAST-MODIFIED:20251030T153316Z
UID:10002114-1889337600-1889380800@stjohnvalleyne.com
SUMMARY:Siena Francis Food Drive (Parish Hall Kitchen)
DESCRIPTION:Siena Francis Food Drive. Drop off 2nd Wednesday of the Month from 8am-8pm and 2nd Thursday of the Month from 8am-Noon.  The truck leave on Thursday at 11am\, to drop off the meal donations. Questions or to volunteer to help\, visit our ‘Get Involved’ page
URL:https://stjohnvalleyne.com/event/siena-francis-food-drive-parish-hall-3/2029-11-14/
LOCATION:Parish Hall-Kitchen\, 307 E. Meigs Street\, Valley\, NE\, 68064
ORGANIZER;CN="Beth Kudlacz":MAILTO:msmek1@gmail.com
END:VEVENT
BEGIN:VEVENT
DTSTART;TZID=America/Chicago:20291212T080000
DTEND;TZID=America/Chicago:20291212T200000
DTSTAMP:20260422T050116
CREATED:20251030T153315Z
LAST-MODIFIED:20251030T153316Z
UID:10002115-1891756800-1891800000@stjohnvalleyne.com
SUMMARY:Siena Francis Food Drive (Parish Hall Kitchen)
DESCRIPTION:Siena Francis Food Drive. Drop off 2nd Wednesday of the Month from 8am-8pm and 2nd Thursday of the Month from 8am-Noon.  The truck leave on Thursday at 11am\, to drop off the meal donations. Questions or to volunteer to help\, visit our ‘Get Involved’ page
URL:https://stjohnvalleyne.com/event/siena-francis-food-drive-parish-hall-3/2029-12-12/
LOCATION:Parish Hall-Kitchen\, 307 E. Meigs Street\, Valley\, NE\, 68064
ORGANIZER;CN="Beth Kudlacz":MAILTO:msmek1@gmail.com
END:VEVENT
BEGIN:VEVENT
DTSTART;TZID=America/Chicago:20291213T080000
DTEND;TZID=America/Chicago:20291213T110000
DTSTAMP:20260422T050116
CREATED:20240530T215846Z
LAST-MODIFIED:20251030T153240Z
UID:10002751-1891843200-1891854000@stjohnvalleyne.com
SUMMARY:Siena Francis Food Drive (Parish Hall Kitchen)
DESCRIPTION:Siena Francis Food Drive. Drop off 2nd Wednesday of the Month from 8am-8pm and 2nd Thursday of the Month from 8am-Noon.  The truck leave on Thursday at 11am\, to drop off the meal donations. Questions or to volunteer to help\, visit our ‘Get Involved’ page
URL:https://stjohnvalleyne.com/event/siena-francis-food-drive-parish-hall-2/2029-12-13/
LOCATION:Parish Hall-Kitchen\, 307 E. Meigs Street\, Valley\, NE\, 68064
ORGANIZER;CN="Beth Kudlacz":MAILTO:msmek1@gmail.com
END:VEVENT
END:VCALENDAR