BEGIN:VCALENDAR
VERSION:2.0
PRODID:-//St. John the Evangelist Catholic Church of Valley - ECPv6.15.20//NONSGML v1.0//EN
CALSCALE:GREGORIAN
METHOD:PUBLISH
X-ORIGINAL-URL:https://stjohnvalleyne.com
X-WR-CALDESC:Events for St. John the Evangelist Catholic Church of Valley
REFRESH-INTERVAL;VALUE=DURATION:PT1H
X-Robots-Tag:noindex
X-PUBLISHED-TTL:PT1H
BEGIN:VTIMEZONE
TZID:America/Chicago
BEGIN:DAYLIGHT
TZOFFSETFROM:-0600
TZOFFSETTO:-0500
TZNAME:CDT
DTSTART:20230312T080000
END:DAYLIGHT
BEGIN:STANDARD
TZOFFSETFROM:-0500
TZOFFSETTO:-0600
TZNAME:CST
DTSTART:20231105T070000
END:STANDARD
BEGIN:DAYLIGHT
TZOFFSETFROM:-0600
TZOFFSETTO:-0500
TZNAME:CDT
DTSTART:20240310T080000
END:DAYLIGHT
BEGIN:STANDARD
TZOFFSETFROM:-0500
TZOFFSETTO:-0600
TZNAME:CST
DTSTART:20241103T070000
END:STANDARD
BEGIN:DAYLIGHT
TZOFFSETFROM:-0600
TZOFFSETTO:-0500
TZNAME:CDT
DTSTART:20250309T080000
END:DAYLIGHT
BEGIN:STANDARD
TZOFFSETFROM:-0500
TZOFFSETTO:-0600
TZNAME:CST
DTSTART:20251102T070000
END:STANDARD
END:VTIMEZONE
BEGIN:VEVENT
DTSTART;TZID=America/Chicago:20241216T183000
DTEND;TZID=America/Chicago:20241216T210000
DTSTAMP:20260421T052118
CREATED:20240528T203310Z
LAST-MODIFIED:20240528T203310Z
UID:10001965-1734373800-1734382800@stjohnvalleyne.com
SUMMARY:Knights of Columbus Meeting
DESCRIPTION:Knights of Columbus Meeting at 7pm in the St. Cecilia Conference Room\, Rosary at 6:30pm
URL:https://stjohnvalleyne.com/event/knights-of-columbus-meeting/2024-12-16/
LOCATION:Sanctuary\, 307 E. Meigs Street\, Valley\, NE\, 68064
ORGANIZER;CN="Knights of Columbus-GK Chris Little":MAILTO:chrislittle73@gmail.com
END:VEVENT
BEGIN:VEVENT
DTSTART;TZID=America/Chicago:20241118T183000
DTEND;TZID=America/Chicago:20241118T210000
DTSTAMP:20260421T052118
CREATED:20240528T203310Z
LAST-MODIFIED:20240528T203310Z
UID:10000215-1731954600-1731963600@stjohnvalleyne.com
SUMMARY:Knights of Columbus Meeting
DESCRIPTION:Knights of Columbus Meeting at 7pm in the St. Cecilia Conference Room\, Rosary at 6:30pm
URL:https://stjohnvalleyne.com/event/knights-of-columbus-meeting/2024-11-18/
LOCATION:Sanctuary\, 307 E. Meigs Street\, Valley\, NE\, 68064
ORGANIZER;CN="Knights of Columbus-GK Chris Little":MAILTO:chrislittle73@gmail.com
END:VEVENT
BEGIN:VEVENT
DTSTART;TZID=America/Chicago:20241103T080000
DTEND;TZID=America/Chicago:20241103T110000
DTSTAMP:20260421T052118
CREATED:20240528T204645Z
LAST-MODIFIED:20240528T204645Z
UID:10000335-1730620800-1730631600@stjohnvalleyne.com
SUMMARY:Donut Sunday (Parish Hall)
DESCRIPTION:Donut Sunday after the 7:30am & 10am Masses in the parish hall
URL:https://stjohnvalleyne.com/event/donut-sunday-parish-hall/2024-11-03/
LOCATION:Parish Hall\, 307 E Meigs Street\, Valley\, NE\, 68064\, United States
ORGANIZER;CN="Knights of Columbus-GK Chris Little":MAILTO:chrislittle73@gmail.com
END:VEVENT
BEGIN:VEVENT
DTSTART;TZID=America/Chicago:20241021T190000
DTEND;TZID=America/Chicago:20241021T194500
DTSTAMP:20260421T052118
CREATED:20241009T190410Z
LAST-MODIFIED:20241009T190611Z
UID:10000973-1729537200-1729539900@stjohnvalleyne.com
SUMMARY:Annulment Assistance
DESCRIPTION:Annulment Assistance Available\nDo you or a loved one need to pursue an annulment? The annulment process can be difficult at times for many reasons\, but we are here to support\, guide\, and accompany you through the process. The annulment process seeks to understand the truth about the validity of the marriage bond.\nInterested parties can join a 30-45 minute presentation on Monday evening\, October 21\, 2024 at 7:00pm in the St. Cecelia’s conference room.
URL:https://stjohnvalleyne.com/event/annulment-assistance/
LOCATION:St. Cecilia Confrence Room\, 307 E. Meigs Street\, Valley\, 68064\, United States
ORGANIZER;CN="Knights of Columbus-GK Chris Little":MAILTO:chrislittle73@gmail.com
END:VEVENT
BEGIN:VEVENT
DTSTART;TZID=America/Chicago:20241021T183000
DTEND;TZID=America/Chicago:20241021T210000
DTSTAMP:20260421T052118
CREATED:20240528T203310Z
LAST-MODIFIED:20240528T203310Z
UID:10000214-1729535400-1729544400@stjohnvalleyne.com
SUMMARY:Knights of Columbus Meeting
DESCRIPTION:Knights of Columbus Meeting at 7pm in the St. Cecilia Conference Room\, Rosary at 6:30pm
URL:https://stjohnvalleyne.com/event/knights-of-columbus-meeting/2024-10-21/
LOCATION:Sanctuary\, 307 E. Meigs Street\, Valley\, NE\, 68064
ORGANIZER;CN="Knights of Columbus-GK Chris Little":MAILTO:chrislittle73@gmail.com
END:VEVENT
BEGIN:VEVENT
DTSTART;TZID=America/Chicago:20241006T080000
DTEND;TZID=America/Chicago:20241006T110000
DTSTAMP:20260421T052118
CREATED:20240528T204645Z
LAST-MODIFIED:20240528T204645Z
UID:10000334-1728201600-1728212400@stjohnvalleyne.com
SUMMARY:Donut Sunday (Parish Hall)
DESCRIPTION:Donut Sunday after the 7:30am & 10am Masses in the parish hall
URL:https://stjohnvalleyne.com/event/donut-sunday-parish-hall/2024-10-06/
LOCATION:Parish Hall\, 307 E Meigs Street\, Valley\, NE\, 68064\, United States
ORGANIZER;CN="Knights of Columbus-GK Chris Little":MAILTO:chrislittle73@gmail.com
END:VEVENT
BEGIN:VEVENT
DTSTART;TZID=America/Chicago:20240916T183000
DTEND;TZID=America/Chicago:20240916T210000
DTSTAMP:20260421T052118
CREATED:20240528T203310Z
LAST-MODIFIED:20240528T203310Z
UID:10000213-1726511400-1726520400@stjohnvalleyne.com
SUMMARY:Knights of Columbus Meeting
DESCRIPTION:Knights of Columbus Meeting at 7pm in the St. Cecilia Conference Room\, Rosary at 6:30pm
URL:https://stjohnvalleyne.com/event/knights-of-columbus-meeting/2024-09-16/
LOCATION:Sanctuary\, 307 E. Meigs Street\, Valley\, NE\, 68064
ORGANIZER;CN="Knights of Columbus-GK Chris Little":MAILTO:chrislittle73@gmail.com
END:VEVENT
BEGIN:VEVENT
DTSTART;TZID=America/Chicago:20240901T080000
DTEND;TZID=America/Chicago:20240901T110000
DTSTAMP:20260421T052118
CREATED:20240528T204645Z
LAST-MODIFIED:20240528T204645Z
UID:10000333-1725177600-1725188400@stjohnvalleyne.com
SUMMARY:Donut Sunday (Parish Hall)
DESCRIPTION:Donut Sunday after the 7:30am & 10am Masses in the parish hall
URL:https://stjohnvalleyne.com/event/donut-sunday-parish-hall/2024-09-01/
LOCATION:Parish Hall\, 307 E Meigs Street\, Valley\, NE\, 68064\, United States
ORGANIZER;CN="Knights of Columbus-GK Chris Little":MAILTO:chrislittle73@gmail.com
END:VEVENT
BEGIN:VEVENT
DTSTART;TZID=America/Chicago:20240819T183000
DTEND;TZID=America/Chicago:20240819T210000
DTSTAMP:20260421T052118
CREATED:20240528T203310Z
LAST-MODIFIED:20240528T203310Z
UID:10000212-1724092200-1724101200@stjohnvalleyne.com
SUMMARY:Knights of Columbus Meeting
DESCRIPTION:Knights of Columbus Meeting at 7pm in the St. Cecilia Conference Room\, Rosary at 6:30pm
URL:https://stjohnvalleyne.com/event/knights-of-columbus-meeting/2024-08-19/
LOCATION:Sanctuary\, 307 E. Meigs Street\, Valley\, NE\, 68064
ORGANIZER;CN="Knights of Columbus-GK Chris Little":MAILTO:chrislittle73@gmail.com
END:VEVENT
BEGIN:VEVENT
DTSTART;TZID=America/Chicago:20240804T080000
DTEND;TZID=America/Chicago:20240804T110000
DTSTAMP:20260421T052118
CREATED:20240528T204645Z
LAST-MODIFIED:20240528T204645Z
UID:10000332-1722758400-1722769200@stjohnvalleyne.com
SUMMARY:Donut Sunday (Parish Hall)
DESCRIPTION:Donut Sunday after the 7:30am & 10am Masses in the parish hall
URL:https://stjohnvalleyne.com/event/donut-sunday-parish-hall/2024-08-04/
LOCATION:Parish Hall\, 307 E Meigs Street\, Valley\, NE\, 68064\, United States
ORGANIZER;CN="Knights of Columbus-GK Chris Little":MAILTO:chrislittle73@gmail.com
END:VEVENT
BEGIN:VEVENT
DTSTART;TZID=America/Chicago:20240707T080000
DTEND;TZID=America/Chicago:20240707T110000
DTSTAMP:20260421T052118
CREATED:20240528T204645Z
LAST-MODIFIED:20240528T204645Z
UID:10000331-1720339200-1720350000@stjohnvalleyne.com
SUMMARY:Donut Sunday (Parish Hall)
DESCRIPTION:Donut Sunday after the 7:30am & 10am Masses in the parish hall
URL:https://stjohnvalleyne.com/event/donut-sunday-parish-hall/2024-07-07/
LOCATION:Parish Hall\, 307 E Meigs Street\, Valley\, NE\, 68064\, United States
ORGANIZER;CN="Knights of Columbus-GK Chris Little":MAILTO:chrislittle73@gmail.com
END:VEVENT
BEGIN:VEVENT
DTSTART;TZID=America/Chicago:20240617T183000
DTEND;TZID=America/Chicago:20240617T210000
DTSTAMP:20260421T052118
CREATED:20240528T203310Z
LAST-MODIFIED:20240528T203310Z
UID:10000210-1718649000-1718658000@stjohnvalleyne.com
SUMMARY:Knights of Columbus Meeting
DESCRIPTION:Knights of Columbus Meeting at 7pm in the St. Cecilia Conference Room\, Rosary at 6:30pm
URL:https://stjohnvalleyne.com/event/knights-of-columbus-meeting/2024-06-17/
LOCATION:Sanctuary\, 307 E. Meigs Street\, Valley\, NE\, 68064
ORGANIZER;CN="Knights of Columbus-GK Chris Little":MAILTO:chrislittle73@gmail.com
END:VEVENT
BEGIN:VEVENT
DTSTART;TZID=America/Chicago:20240602T080000
DTEND;TZID=America/Chicago:20240602T110000
DTSTAMP:20260421T052118
CREATED:20240528T204645Z
LAST-MODIFIED:20240528T204645Z
UID:10000330-1717315200-1717326000@stjohnvalleyne.com
SUMMARY:Donut Sunday (Parish Hall)
DESCRIPTION:Donut Sunday after the 7:30am & 10am Masses in the parish hall
URL:https://stjohnvalleyne.com/event/donut-sunday-parish-hall/2024-06-02/
LOCATION:Parish Hall\, 307 E Meigs Street\, Valley\, NE\, 68064\, United States
ORGANIZER;CN="Knights of Columbus-GK Chris Little":MAILTO:chrislittle73@gmail.com
END:VEVENT
END:VCALENDAR