BEGIN:VCALENDAR
VERSION:2.0
PRODID:-//St. John the Evangelist Catholic Church of Valley - ECPv6.15.20//NONSGML v1.0//EN
CALSCALE:GREGORIAN
METHOD:PUBLISH
X-WR-CALNAME:St. John the Evangelist Catholic Church of Valley
X-ORIGINAL-URL:https://stjohnvalleyne.com
X-WR-CALDESC:Events for St. John the Evangelist Catholic Church of Valley
REFRESH-INTERVAL;VALUE=DURATION:PT1H
X-Robots-Tag:noindex
X-PUBLISHED-TTL:PT1H
BEGIN:VTIMEZONE
TZID:America/Chicago
BEGIN:DAYLIGHT
TZOFFSETFROM:-0600
TZOFFSETTO:-0500
TZNAME:CDT
DTSTART:20230312T080000
END:DAYLIGHT
BEGIN:STANDARD
TZOFFSETFROM:-0500
TZOFFSETTO:-0600
TZNAME:CST
DTSTART:20231105T070000
END:STANDARD
BEGIN:DAYLIGHT
TZOFFSETFROM:-0600
TZOFFSETTO:-0500
TZNAME:CDT
DTSTART:20240310T080000
END:DAYLIGHT
BEGIN:STANDARD
TZOFFSETFROM:-0500
TZOFFSETTO:-0600
TZNAME:CST
DTSTART:20241103T070000
END:STANDARD
BEGIN:DAYLIGHT
TZOFFSETFROM:-0600
TZOFFSETTO:-0500
TZNAME:CDT
DTSTART:20250309T080000
END:DAYLIGHT
BEGIN:STANDARD
TZOFFSETFROM:-0500
TZOFFSETTO:-0600
TZNAME:CST
DTSTART:20251102T070000
END:STANDARD
END:VTIMEZONE
BEGIN:VEVENT
DTSTART;TZID=America/Chicago:20240702T080000
DTEND;TZID=America/Chicago:20240702T170000
DTSTAMP:20260421T015730
CREATED:20240612T202748Z
LAST-MODIFIED:20240612T202748Z
UID:10000638-1719907200-1719939600@stjohnvalleyne.com
SUMMARY:4th of July Food Prep (Kitchen)
DESCRIPTION:4th of July Food Prep in the parish hall kitchen
URL:https://stjohnvalleyne.com/event/4th-of-july-food-prep-kitchen/2024-07-02/
LOCATION:Parish Hall-Kitchen\, 307 E. Meigs Street\, Valley\, NE\, 68064
END:VEVENT
BEGIN:VEVENT
DTSTART;TZID=America/Chicago:20240703T110000
DTEND;TZID=America/Chicago:20240703T150000
DTSTAMP:20260421T015730
CREATED:20240612T210034Z
LAST-MODIFIED:20240613T192043Z
UID:10000639-1720004400-1720018800@stjohnvalleyne.com
SUMMARY:4th of July Picnic (Valhaven)
DESCRIPTION:
URL:https://stjohnvalleyne.com/event/4th-of-july-party/
LOCATION:Valhaven-Arbor Care Center\, 300 W Meigs Street\, Valley\, 68064\, United States
END:VEVENT
BEGIN:VEVENT
DTSTART;TZID=America/Chicago:20240704T090000
DTEND;TZID=America/Chicago:20240704T150000
DTSTAMP:20260421T015730
CREATED:20240531T015432Z
LAST-MODIFIED:20240531T015432Z
UID:10000562-1720083600-1720105200@stjohnvalleyne.com
SUMMARY:Office Closed
DESCRIPTION:Office Closed
URL:https://stjohnvalleyne.com/event/office-closed-2/
LOCATION:NE
END:VEVENT
BEGIN:VEVENT
DTSTART;TZID=America/Chicago:20240707T080000
DTEND;TZID=America/Chicago:20240707T110000
DTSTAMP:20260421T015730
CREATED:20240528T204645Z
LAST-MODIFIED:20240528T204645Z
UID:10000331-1720339200-1720350000@stjohnvalleyne.com
SUMMARY:Donut Sunday (Parish Hall)
DESCRIPTION:Donut Sunday after the 7:30am & 10am Masses in the parish hall
URL:https://stjohnvalleyne.com/event/donut-sunday-parish-hall/2024-07-07/
LOCATION:Parish Hall\, 307 E Meigs Street\, Valley\, NE\, 68064\, United States
ORGANIZER;CN="Knights of Columbus-GK Chris Little":MAILTO:chrislittle73@gmail.com
END:VEVENT
BEGIN:VEVENT
DTSTART;TZID=America/Chicago:20240710T080000
DTEND;TZID=America/Chicago:20240710T200000
DTSTAMP:20260421T015730
CREATED:20240530T215719Z
LAST-MODIFIED:20240722T160704Z
UID:10000391-1720598400-1720641600@stjohnvalleyne.com
SUMMARY:Siena Francis Food Drive (Parish Hall Kitchen)
DESCRIPTION:Siena Francis Food Drive. Drop off 2nd Wednesday of the Month from 8am-8pm and 2nd Thursday of the Month from 8am-Noon.  The truck leave on Thursday at noon\, to drop off the meal donations. Questions or to volunteer to help\, visit our ‘Get Involved’ page
URL:https://stjohnvalleyne.com/event/siena-francis-food-drive-parish-hall/2024-07-10/
LOCATION:Parish Hall-Kitchen\, 307 E. Meigs Street\, Valley\, NE\, 68064
ORGANIZER;CN="Beth Kudlacz":MAILTO:msmek1@gmail.com
END:VEVENT
BEGIN:VEVENT
DTSTART;TZID=America/Chicago:20240711T080000
DTEND;TZID=America/Chicago:20240711T110000
DTSTAMP:20260421T015730
CREATED:20240530T215846Z
LAST-MODIFIED:20251030T153240Z
UID:10000451-1720684800-1720695600@stjohnvalleyne.com
SUMMARY:Siena Francis Food Drive (Parish Hall Kitchen)
DESCRIPTION:Siena Francis Food Drive. Drop off 2nd Wednesday of the Month from 8am-8pm and 2nd Thursday of the Month from 8am-Noon.  The truck leave on Thursday at 11am\, to drop off the meal donations. Questions or to volunteer to help\, visit our ‘Get Involved’ page
URL:https://stjohnvalleyne.com/event/siena-francis-food-drive-parish-hall-2/2024-07-11/
LOCATION:Parish Hall-Kitchen\, 307 E. Meigs Street\, Valley\, NE\, 68064
ORGANIZER;CN="Beth Kudlacz":MAILTO:msmek1@gmail.com
END:VEVENT
BEGIN:VEVENT
DTSTART;TZID=America/Chicago:20240714T081500
DTEND;TZID=America/Chicago:20240714T094500
DTSTAMP:20260421T015730
CREATED:20240531T024739Z
LAST-MODIFIED:20240612T210941Z
UID:10000637-1720944900-1720950300@stjohnvalleyne.com
SUMMARY:SVdP Meeting (St. Cecilia)
DESCRIPTION:SVdP Meeting at 8:15am
URL:https://stjohnvalleyne.com/event/svdp-meeting-st-cecilia/
LOCATION:St. Cecilia Confrence Room\, 307 E. Meigs Street\, Valley\, 68064\, United States
ORGANIZER;CN="SVdP-Bob Sebby":MAILTO:sebbyb@cox.net
END:VEVENT
BEGIN:VEVENT
DTSTART;TZID=America/Chicago:20240720T180000
DTEND;TZID=America/Chicago:20240720T210000
DTSTAMP:20260421T015730
CREATED:20240612T210319Z
LAST-MODIFIED:20240612T210319Z
UID:10000640-1721498400-1721509200@stjohnvalleyne.com
SUMMARY:World Day of  Grandparents & the Elderly Dinner (Parish Hall)
DESCRIPTION:World Day of Grandparents & the Elderly Dinner in the Parish following the 5pm Mass
URL:https://stjohnvalleyne.com/event/world-day-of-grandparents-the-elderly-dinner-parish-hall/
LOCATION:Parish Hall\, 307 E Meigs Street\, Valley\, NE\, 68064\, United States
END:VEVENT
END:VCALENDAR