BEGIN:VCALENDAR
VERSION:2.0
PRODID:-//St. John the Evangelist Catholic Church of Valley - ECPv6.15.20//NONSGML v1.0//EN
CALSCALE:GREGORIAN
METHOD:PUBLISH
X-ORIGINAL-URL:https://stjohnvalleyne.com
X-WR-CALDESC:Events for St. John the Evangelist Catholic Church of Valley
REFRESH-INTERVAL;VALUE=DURATION:PT1H
X-Robots-Tag:noindex
X-PUBLISHED-TTL:PT1H
BEGIN:VTIMEZONE
TZID:America/Chicago
BEGIN:DAYLIGHT
TZOFFSETFROM:-0600
TZOFFSETTO:-0500
TZNAME:CDT
DTSTART:20280312T080000
END:DAYLIGHT
BEGIN:STANDARD
TZOFFSETFROM:-0500
TZOFFSETTO:-0600
TZNAME:CST
DTSTART:20281105T070000
END:STANDARD
BEGIN:DAYLIGHT
TZOFFSETFROM:-0600
TZOFFSETTO:-0500
TZNAME:CDT
DTSTART:20290311T080000
END:DAYLIGHT
BEGIN:STANDARD
TZOFFSETFROM:-0500
TZOFFSETTO:-0600
TZNAME:CST
DTSTART:20291104T070000
END:STANDARD
BEGIN:DAYLIGHT
TZOFFSETFROM:-0600
TZOFFSETTO:-0500
TZNAME:CDT
DTSTART:20300310T080000
END:DAYLIGHT
BEGIN:STANDARD
TZOFFSETFROM:-0500
TZOFFSETTO:-0600
TZNAME:CST
DTSTART:20301103T070000
END:STANDARD
END:VTIMEZONE
BEGIN:VEVENT
DTSTART;TZID=America/Chicago:20290803T180000
DTEND;TZID=America/Chicago:20290803T190000
DTSTAMP:20260421T034934
CREATED:20250707T170551Z
LAST-MODIFIED:20250707T170551Z
UID:10002099-1880474400-1880478000@stjohnvalleyne.com
SUMMARY:First Friday Eucharistic Adoration
DESCRIPTION:First Friday Eucharistic Adoration at 6pm
URL:https://stjohnvalleyne.com/event/first-friday-eucharistic-adoration-4/2029-08-03/
LOCATION:Sanctuary\, 307 E. Meigs Street\, Valley\, NE\, 68064
ORGANIZER;CN="Deacon Tom Manhart":MAILTO:dcntom@stjohnvalleyne.com
END:VEVENT
BEGIN:VEVENT
DTSTART;TZID=America/Chicago:20290808T080000
DTEND;TZID=America/Chicago:20290808T200000
DTSTAMP:20260421T034934
CREATED:20251030T153315Z
LAST-MODIFIED:20251030T153316Z
UID:10002111-1880870400-1880913600@stjohnvalleyne.com
SUMMARY:Siena Francis Food Drive (Parish Hall Kitchen)
DESCRIPTION:Siena Francis Food Drive. Drop off 2nd Wednesday of the Month from 8am-8pm and 2nd Thursday of the Month from 8am-Noon.  The truck leave on Thursday at 11am\, to drop off the meal donations. Questions or to volunteer to help\, visit our ‘Get Involved’ page
URL:https://stjohnvalleyne.com/event/siena-francis-food-drive-parish-hall-3/2029-08-08/
LOCATION:Parish Hall-Kitchen\, 307 E. Meigs Street\, Valley\, NE\, 68064
ORGANIZER;CN="Beth Kudlacz":MAILTO:msmek1@gmail.com
END:VEVENT
BEGIN:VEVENT
DTSTART;TZID=America/Chicago:20290809T080000
DTEND;TZID=America/Chicago:20290809T110000
DTSTAMP:20260421T034934
CREATED:20240530T215846Z
LAST-MODIFIED:20251030T153240Z
UID:10002747-1880956800-1880967600@stjohnvalleyne.com
SUMMARY:Siena Francis Food Drive (Parish Hall Kitchen)
DESCRIPTION:Siena Francis Food Drive. Drop off 2nd Wednesday of the Month from 8am-8pm and 2nd Thursday of the Month from 8am-Noon.  The truck leave on Thursday at 11am\, to drop off the meal donations. Questions or to volunteer to help\, visit our ‘Get Involved’ page
URL:https://stjohnvalleyne.com/event/siena-francis-food-drive-parish-hall-2/2029-08-09/
LOCATION:Parish Hall-Kitchen\, 307 E. Meigs Street\, Valley\, NE\, 68064
ORGANIZER;CN="Beth Kudlacz":MAILTO:msmek1@gmail.com
END:VEVENT
BEGIN:VEVENT
DTSTART;TZID=America/Chicago:20290809T100000
DTEND;TZID=America/Chicago:20290809T110000
DTSTAMP:20260421T034934
CREATED:20250409T155349Z
LAST-MODIFIED:20250924T152135Z
UID:10001780-1880964000-1880967600@stjohnvalleyne.com
SUMMARY:Tai-Chi Class (Parish Hall)
DESCRIPTION:Transform Your Mind and Body with Tai Chi  (Meets on the 1st\, 2nd and 4th Thursday in the Parish Hall\, the 3rd Thursday is in the St. Oscar Romero Room)\nJoin our Tai Chi class today and experience the perfect blend of movement\, relaxation\, and mindfulness! \nWhether you’re looking to reduce stress\, improve flexibility\, or enhance your overall well-being\, Tai Chi offers a gentle yet powerful practice suitable for all ages and fitness levels.  Classes are Every Thursday at 10am in the St. John’s Parish Hall. Classes are from 30-45 minutes.\nQuestions\, contact Rolly Kleeman
URL:https://stjohnvalleyne.com/event/tai-chi-class/2029-08-09/
LOCATION:Parish Hall\, 307 E Meigs Street\, Valley\, NE\, 68064\, United States
END:VEVENT
BEGIN:VEVENT
DTSTART;TZID=America/Chicago:20290816T100000
DTEND;TZID=America/Chicago:20290816T110000
DTSTAMP:20260421T034934
CREATED:20250409T155349Z
LAST-MODIFIED:20250924T152135Z
UID:10001781-1881568800-1881572400@stjohnvalleyne.com
SUMMARY:Tai-Chi Class (Parish Hall)
DESCRIPTION:Transform Your Mind and Body with Tai Chi  (Meets on the 1st\, 2nd and 4th Thursday in the Parish Hall\, the 3rd Thursday is in the St. Oscar Romero Room)\nJoin our Tai Chi class today and experience the perfect blend of movement\, relaxation\, and mindfulness! \nWhether you’re looking to reduce stress\, improve flexibility\, or enhance your overall well-being\, Tai Chi offers a gentle yet powerful practice suitable for all ages and fitness levels.  Classes are Every Thursday at 10am in the St. John’s Parish Hall. Classes are from 30-45 minutes.\nQuestions\, contact Rolly Kleeman
URL:https://stjohnvalleyne.com/event/tai-chi-class/2029-08-16/
LOCATION:Parish Hall\, 307 E Meigs Street\, Valley\, NE\, 68064\, United States
END:VEVENT
BEGIN:VEVENT
DTSTART;TZID=America/Chicago:20290823T100000
DTEND;TZID=America/Chicago:20290823T110000
DTSTAMP:20260421T034934
CREATED:20250409T155349Z
LAST-MODIFIED:20250924T152135Z
UID:10001782-1882173600-1882177200@stjohnvalleyne.com
SUMMARY:Tai-Chi Class (Parish Hall)
DESCRIPTION:Transform Your Mind and Body with Tai Chi  (Meets on the 1st\, 2nd and 4th Thursday in the Parish Hall\, the 3rd Thursday is in the St. Oscar Romero Room)\nJoin our Tai Chi class today and experience the perfect blend of movement\, relaxation\, and mindfulness! \nWhether you’re looking to reduce stress\, improve flexibility\, or enhance your overall well-being\, Tai Chi offers a gentle yet powerful practice suitable for all ages and fitness levels.  Classes are Every Thursday at 10am in the St. John’s Parish Hall. Classes are from 30-45 minutes.\nQuestions\, contact Rolly Kleeman
URL:https://stjohnvalleyne.com/event/tai-chi-class/2029-08-23/
LOCATION:Parish Hall\, 307 E Meigs Street\, Valley\, NE\, 68064\, United States
END:VEVENT
BEGIN:VEVENT
DTSTART;TZID=America/Chicago:20290830T100000
DTEND;TZID=America/Chicago:20290830T110000
DTSTAMP:20260421T034934
CREATED:20250409T155349Z
LAST-MODIFIED:20250924T152135Z
UID:10001783-1882778400-1882782000@stjohnvalleyne.com
SUMMARY:Tai-Chi Class (Parish Hall)
DESCRIPTION:Transform Your Mind and Body with Tai Chi  (Meets on the 1st\, 2nd and 4th Thursday in the Parish Hall\, the 3rd Thursday is in the St. Oscar Romero Room)\nJoin our Tai Chi class today and experience the perfect blend of movement\, relaxation\, and mindfulness! \nWhether you’re looking to reduce stress\, improve flexibility\, or enhance your overall well-being\, Tai Chi offers a gentle yet powerful practice suitable for all ages and fitness levels.  Classes are Every Thursday at 10am in the St. John’s Parish Hall. Classes are from 30-45 minutes.\nQuestions\, contact Rolly Kleeman
URL:https://stjohnvalleyne.com/event/tai-chi-class/2029-08-30/
LOCATION:Parish Hall\, 307 E Meigs Street\, Valley\, NE\, 68064\, United States
END:VEVENT
BEGIN:VEVENT
DTSTART;TZID=America/Chicago:20290906T100000
DTEND;TZID=America/Chicago:20290906T110000
DTSTAMP:20260421T034934
CREATED:20250409T155349Z
LAST-MODIFIED:20250924T152135Z
UID:10001784-1883383200-1883386800@stjohnvalleyne.com
SUMMARY:Tai-Chi Class (Parish Hall)
DESCRIPTION:Transform Your Mind and Body with Tai Chi  (Meets on the 1st\, 2nd and 4th Thursday in the Parish Hall\, the 3rd Thursday is in the St. Oscar Romero Room)\nJoin our Tai Chi class today and experience the perfect blend of movement\, relaxation\, and mindfulness! \nWhether you’re looking to reduce stress\, improve flexibility\, or enhance your overall well-being\, Tai Chi offers a gentle yet powerful practice suitable for all ages and fitness levels.  Classes are Every Thursday at 10am in the St. John’s Parish Hall. Classes are from 30-45 minutes.\nQuestions\, contact Rolly Kleeman
URL:https://stjohnvalleyne.com/event/tai-chi-class/2029-09-06/
LOCATION:Parish Hall\, 307 E Meigs Street\, Valley\, NE\, 68064\, United States
END:VEVENT
BEGIN:VEVENT
DTSTART;TZID=America/Chicago:20290907T180000
DTEND;TZID=America/Chicago:20290907T190000
DTSTAMP:20260421T034934
CREATED:20250707T170551Z
LAST-MODIFIED:20250707T170551Z
UID:10002100-1883498400-1883502000@stjohnvalleyne.com
SUMMARY:First Friday Eucharistic Adoration
DESCRIPTION:First Friday Eucharistic Adoration at 6pm
URL:https://stjohnvalleyne.com/event/first-friday-eucharistic-adoration-4/2029-09-07/
LOCATION:Sanctuary\, 307 E. Meigs Street\, Valley\, NE\, 68064
ORGANIZER;CN="Deacon Tom Manhart":MAILTO:dcntom@stjohnvalleyne.com
END:VEVENT
BEGIN:VEVENT
DTSTART;TZID=America/Chicago:20290912T080000
DTEND;TZID=America/Chicago:20290912T200000
DTSTAMP:20260421T034934
CREATED:20251030T153315Z
LAST-MODIFIED:20251030T153316Z
UID:10002112-1883894400-1883937600@stjohnvalleyne.com
SUMMARY:Siena Francis Food Drive (Parish Hall Kitchen)
DESCRIPTION:Siena Francis Food Drive. Drop off 2nd Wednesday of the Month from 8am-8pm and 2nd Thursday of the Month from 8am-Noon.  The truck leave on Thursday at 11am\, to drop off the meal donations. Questions or to volunteer to help\, visit our ‘Get Involved’ page
URL:https://stjohnvalleyne.com/event/siena-francis-food-drive-parish-hall-3/2029-09-12/
LOCATION:Parish Hall-Kitchen\, 307 E. Meigs Street\, Valley\, NE\, 68064
ORGANIZER;CN="Beth Kudlacz":MAILTO:msmek1@gmail.com
END:VEVENT
BEGIN:VEVENT
DTSTART;TZID=America/Chicago:20290913T080000
DTEND;TZID=America/Chicago:20290913T110000
DTSTAMP:20260421T034934
CREATED:20240530T215846Z
LAST-MODIFIED:20251030T153240Z
UID:10002748-1883980800-1883991600@stjohnvalleyne.com
SUMMARY:Siena Francis Food Drive (Parish Hall Kitchen)
DESCRIPTION:Siena Francis Food Drive. Drop off 2nd Wednesday of the Month from 8am-8pm and 2nd Thursday of the Month from 8am-Noon.  The truck leave on Thursday at 11am\, to drop off the meal donations. Questions or to volunteer to help\, visit our ‘Get Involved’ page
URL:https://stjohnvalleyne.com/event/siena-francis-food-drive-parish-hall-2/2029-09-13/
LOCATION:Parish Hall-Kitchen\, 307 E. Meigs Street\, Valley\, NE\, 68064
ORGANIZER;CN="Beth Kudlacz":MAILTO:msmek1@gmail.com
END:VEVENT
BEGIN:VEVENT
DTSTART;TZID=America/Chicago:20290913T100000
DTEND;TZID=America/Chicago:20290913T110000
DTSTAMP:20260421T034934
CREATED:20250409T155349Z
LAST-MODIFIED:20250924T152135Z
UID:10001785-1883988000-1883991600@stjohnvalleyne.com
SUMMARY:Tai-Chi Class (Parish Hall)
DESCRIPTION:Transform Your Mind and Body with Tai Chi  (Meets on the 1st\, 2nd and 4th Thursday in the Parish Hall\, the 3rd Thursday is in the St. Oscar Romero Room)\nJoin our Tai Chi class today and experience the perfect blend of movement\, relaxation\, and mindfulness! \nWhether you’re looking to reduce stress\, improve flexibility\, or enhance your overall well-being\, Tai Chi offers a gentle yet powerful practice suitable for all ages and fitness levels.  Classes are Every Thursday at 10am in the St. John’s Parish Hall. Classes are from 30-45 minutes.\nQuestions\, contact Rolly Kleeman
URL:https://stjohnvalleyne.com/event/tai-chi-class/2029-09-13/
LOCATION:Parish Hall\, 307 E Meigs Street\, Valley\, NE\, 68064\, United States
END:VEVENT
BEGIN:VEVENT
DTSTART;TZID=America/Chicago:20290920T100000
DTEND;TZID=America/Chicago:20290920T110000
DTSTAMP:20260421T034934
CREATED:20250409T155349Z
LAST-MODIFIED:20250924T152135Z
UID:10001786-1884592800-1884596400@stjohnvalleyne.com
SUMMARY:Tai-Chi Class (Parish Hall)
DESCRIPTION:Transform Your Mind and Body with Tai Chi  (Meets on the 1st\, 2nd and 4th Thursday in the Parish Hall\, the 3rd Thursday is in the St. Oscar Romero Room)\nJoin our Tai Chi class today and experience the perfect blend of movement\, relaxation\, and mindfulness! \nWhether you’re looking to reduce stress\, improve flexibility\, or enhance your overall well-being\, Tai Chi offers a gentle yet powerful practice suitable for all ages and fitness levels.  Classes are Every Thursday at 10am in the St. John’s Parish Hall. Classes are from 30-45 minutes.\nQuestions\, contact Rolly Kleeman
URL:https://stjohnvalleyne.com/event/tai-chi-class/2029-09-20/
LOCATION:Parish Hall\, 307 E Meigs Street\, Valley\, NE\, 68064\, United States
END:VEVENT
BEGIN:VEVENT
DTSTART;TZID=America/Chicago:20290927T100000
DTEND;TZID=America/Chicago:20290927T110000
DTSTAMP:20260421T034934
CREATED:20250409T155349Z
LAST-MODIFIED:20250924T152135Z
UID:10001787-1885197600-1885201200@stjohnvalleyne.com
SUMMARY:Tai-Chi Class (Parish Hall)
DESCRIPTION:Transform Your Mind and Body with Tai Chi  (Meets on the 1st\, 2nd and 4th Thursday in the Parish Hall\, the 3rd Thursday is in the St. Oscar Romero Room)\nJoin our Tai Chi class today and experience the perfect blend of movement\, relaxation\, and mindfulness! \nWhether you’re looking to reduce stress\, improve flexibility\, or enhance your overall well-being\, Tai Chi offers a gentle yet powerful practice suitable for all ages and fitness levels.  Classes are Every Thursday at 10am in the St. John’s Parish Hall. Classes are from 30-45 minutes.\nQuestions\, contact Rolly Kleeman
URL:https://stjohnvalleyne.com/event/tai-chi-class/2029-09-27/
LOCATION:Parish Hall\, 307 E Meigs Street\, Valley\, NE\, 68064\, United States
END:VEVENT
BEGIN:VEVENT
DTSTART;TZID=America/Chicago:20291004T100000
DTEND;TZID=America/Chicago:20291004T110000
DTSTAMP:20260421T034934
CREATED:20250409T155349Z
LAST-MODIFIED:20250924T152135Z
UID:10001788-1885802400-1885806000@stjohnvalleyne.com
SUMMARY:Tai-Chi Class (Parish Hall)
DESCRIPTION:Transform Your Mind and Body with Tai Chi  (Meets on the 1st\, 2nd and 4th Thursday in the Parish Hall\, the 3rd Thursday is in the St. Oscar Romero Room)\nJoin our Tai Chi class today and experience the perfect blend of movement\, relaxation\, and mindfulness! \nWhether you’re looking to reduce stress\, improve flexibility\, or enhance your overall well-being\, Tai Chi offers a gentle yet powerful practice suitable for all ages and fitness levels.  Classes are Every Thursday at 10am in the St. John’s Parish Hall. Classes are from 30-45 minutes.\nQuestions\, contact Rolly Kleeman
URL:https://stjohnvalleyne.com/event/tai-chi-class/2029-10-04/
LOCATION:Parish Hall\, 307 E Meigs Street\, Valley\, NE\, 68064\, United States
END:VEVENT
BEGIN:VEVENT
DTSTART;TZID=America/Chicago:20291005T180000
DTEND;TZID=America/Chicago:20291005T190000
DTSTAMP:20260421T034934
CREATED:20250707T170551Z
LAST-MODIFIED:20250707T170551Z
UID:10002101-1885917600-1885921200@stjohnvalleyne.com
SUMMARY:First Friday Eucharistic Adoration
DESCRIPTION:First Friday Eucharistic Adoration at 6pm
URL:https://stjohnvalleyne.com/event/first-friday-eucharistic-adoration-4/2029-10-05/
LOCATION:Sanctuary\, 307 E. Meigs Street\, Valley\, NE\, 68064
ORGANIZER;CN="Deacon Tom Manhart":MAILTO:dcntom@stjohnvalleyne.com
END:VEVENT
BEGIN:VEVENT
DTSTART;TZID=America/Chicago:20291010T080000
DTEND;TZID=America/Chicago:20291010T200000
DTSTAMP:20260421T034934
CREATED:20251030T153315Z
LAST-MODIFIED:20251030T153316Z
UID:10002113-1886313600-1886356800@stjohnvalleyne.com
SUMMARY:Siena Francis Food Drive (Parish Hall Kitchen)
DESCRIPTION:Siena Francis Food Drive. Drop off 2nd Wednesday of the Month from 8am-8pm and 2nd Thursday of the Month from 8am-Noon.  The truck leave on Thursday at 11am\, to drop off the meal donations. Questions or to volunteer to help\, visit our ‘Get Involved’ page
URL:https://stjohnvalleyne.com/event/siena-francis-food-drive-parish-hall-3/2029-10-10/
LOCATION:Parish Hall-Kitchen\, 307 E. Meigs Street\, Valley\, NE\, 68064
ORGANIZER;CN="Beth Kudlacz":MAILTO:msmek1@gmail.com
END:VEVENT
BEGIN:VEVENT
DTSTART;TZID=America/Chicago:20291011T080000
DTEND;TZID=America/Chicago:20291011T110000
DTSTAMP:20260421T034934
CREATED:20240530T215846Z
LAST-MODIFIED:20251030T153240Z
UID:10002749-1886400000-1886410800@stjohnvalleyne.com
SUMMARY:Siena Francis Food Drive (Parish Hall Kitchen)
DESCRIPTION:Siena Francis Food Drive. Drop off 2nd Wednesday of the Month from 8am-8pm and 2nd Thursday of the Month from 8am-Noon.  The truck leave on Thursday at 11am\, to drop off the meal donations. Questions or to volunteer to help\, visit our ‘Get Involved’ page
URL:https://stjohnvalleyne.com/event/siena-francis-food-drive-parish-hall-2/2029-10-11/
LOCATION:Parish Hall-Kitchen\, 307 E. Meigs Street\, Valley\, NE\, 68064
ORGANIZER;CN="Beth Kudlacz":MAILTO:msmek1@gmail.com
END:VEVENT
BEGIN:VEVENT
DTSTART;TZID=America/Chicago:20291011T100000
DTEND;TZID=America/Chicago:20291011T110000
DTSTAMP:20260421T034934
CREATED:20250409T155349Z
LAST-MODIFIED:20250924T152135Z
UID:10001789-1886407200-1886410800@stjohnvalleyne.com
SUMMARY:Tai-Chi Class (Parish Hall)
DESCRIPTION:Transform Your Mind and Body with Tai Chi  (Meets on the 1st\, 2nd and 4th Thursday in the Parish Hall\, the 3rd Thursday is in the St. Oscar Romero Room)\nJoin our Tai Chi class today and experience the perfect blend of movement\, relaxation\, and mindfulness! \nWhether you’re looking to reduce stress\, improve flexibility\, or enhance your overall well-being\, Tai Chi offers a gentle yet powerful practice suitable for all ages and fitness levels.  Classes are Every Thursday at 10am in the St. John’s Parish Hall. Classes are from 30-45 minutes.\nQuestions\, contact Rolly Kleeman
URL:https://stjohnvalleyne.com/event/tai-chi-class/2029-10-11/
LOCATION:Parish Hall\, 307 E Meigs Street\, Valley\, NE\, 68064\, United States
END:VEVENT
BEGIN:VEVENT
DTSTART;TZID=America/Chicago:20291018T100000
DTEND;TZID=America/Chicago:20291018T110000
DTSTAMP:20260421T034934
CREATED:20250409T155349Z
LAST-MODIFIED:20250924T152135Z
UID:10001790-1887012000-1887015600@stjohnvalleyne.com
SUMMARY:Tai-Chi Class (Parish Hall)
DESCRIPTION:Transform Your Mind and Body with Tai Chi  (Meets on the 1st\, 2nd and 4th Thursday in the Parish Hall\, the 3rd Thursday is in the St. Oscar Romero Room)\nJoin our Tai Chi class today and experience the perfect blend of movement\, relaxation\, and mindfulness! \nWhether you’re looking to reduce stress\, improve flexibility\, or enhance your overall well-being\, Tai Chi offers a gentle yet powerful practice suitable for all ages and fitness levels.  Classes are Every Thursday at 10am in the St. John’s Parish Hall. Classes are from 30-45 minutes.\nQuestions\, contact Rolly Kleeman
URL:https://stjohnvalleyne.com/event/tai-chi-class/2029-10-18/
LOCATION:Parish Hall\, 307 E Meigs Street\, Valley\, NE\, 68064\, United States
END:VEVENT
BEGIN:VEVENT
DTSTART;TZID=America/Chicago:20291025T100000
DTEND;TZID=America/Chicago:20291025T110000
DTSTAMP:20260421T034935
CREATED:20250409T155349Z
LAST-MODIFIED:20250924T152135Z
UID:10001791-1887616800-1887620400@stjohnvalleyne.com
SUMMARY:Tai-Chi Class (Parish Hall)
DESCRIPTION:Transform Your Mind and Body with Tai Chi  (Meets on the 1st\, 2nd and 4th Thursday in the Parish Hall\, the 3rd Thursday is in the St. Oscar Romero Room)\nJoin our Tai Chi class today and experience the perfect blend of movement\, relaxation\, and mindfulness! \nWhether you’re looking to reduce stress\, improve flexibility\, or enhance your overall well-being\, Tai Chi offers a gentle yet powerful practice suitable for all ages and fitness levels.  Classes are Every Thursday at 10am in the St. John’s Parish Hall. Classes are from 30-45 minutes.\nQuestions\, contact Rolly Kleeman
URL:https://stjohnvalleyne.com/event/tai-chi-class/2029-10-25/
LOCATION:Parish Hall\, 307 E Meigs Street\, Valley\, NE\, 68064\, United States
END:VEVENT
BEGIN:VEVENT
DTSTART;TZID=America/Chicago:20291101T100000
DTEND;TZID=America/Chicago:20291101T110000
DTSTAMP:20260421T034935
CREATED:20250409T155349Z
LAST-MODIFIED:20250924T152135Z
UID:10001792-1888221600-1888225200@stjohnvalleyne.com
SUMMARY:Tai-Chi Class (Parish Hall)
DESCRIPTION:Transform Your Mind and Body with Tai Chi  (Meets on the 1st\, 2nd and 4th Thursday in the Parish Hall\, the 3rd Thursday is in the St. Oscar Romero Room)\nJoin our Tai Chi class today and experience the perfect blend of movement\, relaxation\, and mindfulness! \nWhether you’re looking to reduce stress\, improve flexibility\, or enhance your overall well-being\, Tai Chi offers a gentle yet powerful practice suitable for all ages and fitness levels.  Classes are Every Thursday at 10am in the St. John’s Parish Hall. Classes are from 30-45 minutes.\nQuestions\, contact Rolly Kleeman
URL:https://stjohnvalleyne.com/event/tai-chi-class/2029-11-01/
LOCATION:Parish Hall\, 307 E Meigs Street\, Valley\, NE\, 68064\, United States
END:VEVENT
BEGIN:VEVENT
DTSTART;TZID=America/Chicago:20291102T180000
DTEND;TZID=America/Chicago:20291102T190000
DTSTAMP:20260421T034935
CREATED:20250707T170551Z
LAST-MODIFIED:20250707T170551Z
UID:10002102-1888336800-1888340400@stjohnvalleyne.com
SUMMARY:First Friday Eucharistic Adoration
DESCRIPTION:First Friday Eucharistic Adoration at 6pm
URL:https://stjohnvalleyne.com/event/first-friday-eucharistic-adoration-4/2029-11-02/
LOCATION:Sanctuary\, 307 E. Meigs Street\, Valley\, NE\, 68064
ORGANIZER;CN="Deacon Tom Manhart":MAILTO:dcntom@stjohnvalleyne.com
END:VEVENT
BEGIN:VEVENT
DTSTART;TZID=America/Chicago:20291108T080000
DTEND;TZID=America/Chicago:20291108T110000
DTSTAMP:20260421T034935
CREATED:20240530T215846Z
LAST-MODIFIED:20251030T153240Z
UID:10002750-1888819200-1888830000@stjohnvalleyne.com
SUMMARY:Siena Francis Food Drive (Parish Hall Kitchen)
DESCRIPTION:Siena Francis Food Drive. Drop off 2nd Wednesday of the Month from 8am-8pm and 2nd Thursday of the Month from 8am-Noon.  The truck leave on Thursday at 11am\, to drop off the meal donations. Questions or to volunteer to help\, visit our ‘Get Involved’ page
URL:https://stjohnvalleyne.com/event/siena-francis-food-drive-parish-hall-2/2029-11-08/
LOCATION:Parish Hall-Kitchen\, 307 E. Meigs Street\, Valley\, NE\, 68064
ORGANIZER;CN="Beth Kudlacz":MAILTO:msmek1@gmail.com
END:VEVENT
BEGIN:VEVENT
DTSTART;TZID=America/Chicago:20291108T100000
DTEND;TZID=America/Chicago:20291108T110000
DTSTAMP:20260421T034935
CREATED:20250409T155349Z
LAST-MODIFIED:20250924T152135Z
UID:10001793-1888826400-1888830000@stjohnvalleyne.com
SUMMARY:Tai-Chi Class (Parish Hall)
DESCRIPTION:Transform Your Mind and Body with Tai Chi  (Meets on the 1st\, 2nd and 4th Thursday in the Parish Hall\, the 3rd Thursday is in the St. Oscar Romero Room)\nJoin our Tai Chi class today and experience the perfect blend of movement\, relaxation\, and mindfulness! \nWhether you’re looking to reduce stress\, improve flexibility\, or enhance your overall well-being\, Tai Chi offers a gentle yet powerful practice suitable for all ages and fitness levels.  Classes are Every Thursday at 10am in the St. John’s Parish Hall. Classes are from 30-45 minutes.\nQuestions\, contact Rolly Kleeman
URL:https://stjohnvalleyne.com/event/tai-chi-class/2029-11-08/
LOCATION:Parish Hall\, 307 E Meigs Street\, Valley\, NE\, 68064\, United States
END:VEVENT
BEGIN:VEVENT
DTSTART;TZID=America/Chicago:20291114T080000
DTEND;TZID=America/Chicago:20291114T200000
DTSTAMP:20260421T034935
CREATED:20251030T153315Z
LAST-MODIFIED:20251030T153316Z
UID:10002114-1889337600-1889380800@stjohnvalleyne.com
SUMMARY:Siena Francis Food Drive (Parish Hall Kitchen)
DESCRIPTION:Siena Francis Food Drive. Drop off 2nd Wednesday of the Month from 8am-8pm and 2nd Thursday of the Month from 8am-Noon.  The truck leave on Thursday at 11am\, to drop off the meal donations. Questions or to volunteer to help\, visit our ‘Get Involved’ page
URL:https://stjohnvalleyne.com/event/siena-francis-food-drive-parish-hall-3/2029-11-14/
LOCATION:Parish Hall-Kitchen\, 307 E. Meigs Street\, Valley\, NE\, 68064
ORGANIZER;CN="Beth Kudlacz":MAILTO:msmek1@gmail.com
END:VEVENT
BEGIN:VEVENT
DTSTART;TZID=America/Chicago:20291115T100000
DTEND;TZID=America/Chicago:20291115T110000
DTSTAMP:20260421T034935
CREATED:20250409T155349Z
LAST-MODIFIED:20250924T152135Z
UID:10001794-1889431200-1889434800@stjohnvalleyne.com
SUMMARY:Tai-Chi Class (Parish Hall)
DESCRIPTION:Transform Your Mind and Body with Tai Chi  (Meets on the 1st\, 2nd and 4th Thursday in the Parish Hall\, the 3rd Thursday is in the St. Oscar Romero Room)\nJoin our Tai Chi class today and experience the perfect blend of movement\, relaxation\, and mindfulness! \nWhether you’re looking to reduce stress\, improve flexibility\, or enhance your overall well-being\, Tai Chi offers a gentle yet powerful practice suitable for all ages and fitness levels.  Classes are Every Thursday at 10am in the St. John’s Parish Hall. Classes are from 30-45 minutes.\nQuestions\, contact Rolly Kleeman
URL:https://stjohnvalleyne.com/event/tai-chi-class/2029-11-15/
LOCATION:Parish Hall\, 307 E Meigs Street\, Valley\, NE\, 68064\, United States
END:VEVENT
BEGIN:VEVENT
DTSTART;TZID=America/Chicago:20291122T100000
DTEND;TZID=America/Chicago:20291122T110000
DTSTAMP:20260421T034935
CREATED:20250409T155349Z
LAST-MODIFIED:20250924T152135Z
UID:10001795-1890036000-1890039600@stjohnvalleyne.com
SUMMARY:Tai-Chi Class (Parish Hall)
DESCRIPTION:Transform Your Mind and Body with Tai Chi  (Meets on the 1st\, 2nd and 4th Thursday in the Parish Hall\, the 3rd Thursday is in the St. Oscar Romero Room)\nJoin our Tai Chi class today and experience the perfect blend of movement\, relaxation\, and mindfulness! \nWhether you’re looking to reduce stress\, improve flexibility\, or enhance your overall well-being\, Tai Chi offers a gentle yet powerful practice suitable for all ages and fitness levels.  Classes are Every Thursday at 10am in the St. John’s Parish Hall. Classes are from 30-45 minutes.\nQuestions\, contact Rolly Kleeman
URL:https://stjohnvalleyne.com/event/tai-chi-class/2029-11-22/
LOCATION:Parish Hall\, 307 E Meigs Street\, Valley\, NE\, 68064\, United States
END:VEVENT
BEGIN:VEVENT
DTSTART;TZID=America/Chicago:20291129T100000
DTEND;TZID=America/Chicago:20291129T110000
DTSTAMP:20260421T034935
CREATED:20250409T155349Z
LAST-MODIFIED:20250924T152135Z
UID:10001796-1890640800-1890644400@stjohnvalleyne.com
SUMMARY:Tai-Chi Class (Parish Hall)
DESCRIPTION:Transform Your Mind and Body with Tai Chi  (Meets on the 1st\, 2nd and 4th Thursday in the Parish Hall\, the 3rd Thursday is in the St. Oscar Romero Room)\nJoin our Tai Chi class today and experience the perfect blend of movement\, relaxation\, and mindfulness! \nWhether you’re looking to reduce stress\, improve flexibility\, or enhance your overall well-being\, Tai Chi offers a gentle yet powerful practice suitable for all ages and fitness levels.  Classes are Every Thursday at 10am in the St. John’s Parish Hall. Classes are from 30-45 minutes.\nQuestions\, contact Rolly Kleeman
URL:https://stjohnvalleyne.com/event/tai-chi-class/2029-11-29/
LOCATION:Parish Hall\, 307 E Meigs Street\, Valley\, NE\, 68064\, United States
END:VEVENT
BEGIN:VEVENT
DTSTART;TZID=America/Chicago:20291206T100000
DTEND;TZID=America/Chicago:20291206T110000
DTSTAMP:20260421T034935
CREATED:20250409T155349Z
LAST-MODIFIED:20250924T152135Z
UID:10001797-1891245600-1891249200@stjohnvalleyne.com
SUMMARY:Tai-Chi Class (Parish Hall)
DESCRIPTION:Transform Your Mind and Body with Tai Chi  (Meets on the 1st\, 2nd and 4th Thursday in the Parish Hall\, the 3rd Thursday is in the St. Oscar Romero Room)\nJoin our Tai Chi class today and experience the perfect blend of movement\, relaxation\, and mindfulness! \nWhether you’re looking to reduce stress\, improve flexibility\, or enhance your overall well-being\, Tai Chi offers a gentle yet powerful practice suitable for all ages and fitness levels.  Classes are Every Thursday at 10am in the St. John’s Parish Hall. Classes are from 30-45 minutes.\nQuestions\, contact Rolly Kleeman
URL:https://stjohnvalleyne.com/event/tai-chi-class/2029-12-06/
LOCATION:Parish Hall\, 307 E Meigs Street\, Valley\, NE\, 68064\, United States
END:VEVENT
END:VCALENDAR