BEGIN:VCALENDAR
VERSION:2.0
PRODID:-//St. John the Evangelist Catholic Church of Valley - ECPv6.15.20//NONSGML v1.0//EN
CALSCALE:GREGORIAN
METHOD:PUBLISH
X-WR-CALNAME:St. John the Evangelist Catholic Church of Valley
X-ORIGINAL-URL:https://stjohnvalleyne.com
X-WR-CALDESC:Events for St. John the Evangelist Catholic Church of Valley
REFRESH-INTERVAL;VALUE=DURATION:PT1H
X-Robots-Tag:noindex
X-PUBLISHED-TTL:PT1H
BEGIN:VTIMEZONE
TZID:America/Chicago
BEGIN:DAYLIGHT
TZOFFSETFROM:-0600
TZOFFSETTO:-0500
TZNAME:CDT
DTSTART:20250309T080000
END:DAYLIGHT
BEGIN:STANDARD
TZOFFSETFROM:-0500
TZOFFSETTO:-0600
TZNAME:CST
DTSTART:20251102T070000
END:STANDARD
BEGIN:DAYLIGHT
TZOFFSETFROM:-0600
TZOFFSETTO:-0500
TZNAME:CDT
DTSTART:20260308T080000
END:DAYLIGHT
BEGIN:STANDARD
TZOFFSETFROM:-0500
TZOFFSETTO:-0600
TZNAME:CST
DTSTART:20261101T070000
END:STANDARD
BEGIN:DAYLIGHT
TZOFFSETFROM:-0600
TZOFFSETTO:-0500
TZNAME:CDT
DTSTART:20270314T080000
END:DAYLIGHT
BEGIN:STANDARD
TZOFFSETFROM:-0500
TZOFFSETTO:-0600
TZNAME:CST
DTSTART:20271107T070000
END:STANDARD
END:VTIMEZONE
BEGIN:VEVENT
DTSTART;TZID=America/Chicago:20260531T070500
DTEND;TZID=America/Chicago:20260531T073000
DTSTAMP:20260420T072055
CREATED:20250625T125027Z
LAST-MODIFIED:20250625T125027Z
UID:10002022-1780211100-1780212600@stjohnvalleyne.com
SUMMARY:5th Sunday of the Month Rosary
DESCRIPTION:Join us for the 5th Sunday of the Month Rosary\, lead by our Knights of Columbus before the 7:30am Mass
URL:https://stjohnvalleyne.com/event/5th-sunday-of-the-month-rosary-10/
LOCATION:Sanctuary\, 307 E. Meigs Street\, Valley\, NE\, 68064
ORGANIZER;CN="Grand Knight Craig Tylski":MAILTO:craginski@gpcom.net
END:VEVENT
BEGIN:VEVENT
DTSTART;TZID=America/Chicago:20260531T084500
DTEND;TZID=America/Chicago:20260531T094500
DTSTAMP:20260420T072055
CREATED:20250611T180747Z
LAST-MODIFIED:20250611T182257Z
UID:10001925-1780217100-1780220700@stjohnvalleyne.com
SUMMARY:Choir Practice
DESCRIPTION:Choir Practice\nQuestions\, contact Tamera Loftis
URL:https://stjohnvalleyne.com/event/choir-practice-4/2026-05-31/
LOCATION:Pope John Paul II Room\, 307 E. Meigs Street\, Valley\, NE\, 68064
ORGANIZER;CN="Tamera Loftis":MAILTO:tloftis4401@gmail.com
END:VEVENT
BEGIN:VEVENT
DTSTART;TZID=America/Chicago:20260531T093500
DTEND;TZID=America/Chicago:20260531T100000
DTSTAMP:20260420T072055
CREATED:20250625T124814Z
LAST-MODIFIED:20250625T124814Z
UID:10002018-1780220100-1780221600@stjohnvalleyne.com
SUMMARY:5th Sunday of the Month Rosary
DESCRIPTION:Join us for the 5th Sunday of the Month Rosary\, lead by our Knights of Columbus before the 10:00am Mass
URL:https://stjohnvalleyne.com/event/5th-sunday-of-the-month-rosary-6/
LOCATION:Sanctuary\, 307 E. Meigs Street\, Valley\, NE\, 68064
ORGANIZER;CN="Grand Knight Craig Tylski":MAILTO:craginski@gpcom.net
END:VEVENT
END:VCALENDAR