BEGIN:VCALENDAR
VERSION:2.0
PRODID:-//St. John the Evangelist Catholic Church of Valley - ECPv6.15.20//NONSGML v1.0//EN
CALSCALE:GREGORIAN
METHOD:PUBLISH
X-WR-CALNAME:St. John the Evangelist Catholic Church of Valley
X-ORIGINAL-URL:https://stjohnvalleyne.com
X-WR-CALDESC:Events for St. John the Evangelist Catholic Church of Valley
REFRESH-INTERVAL;VALUE=DURATION:PT1H
X-Robots-Tag:noindex
X-PUBLISHED-TTL:PT1H
BEGIN:VTIMEZONE
TZID:America/Chicago
BEGIN:DAYLIGHT
TZOFFSETFROM:-0600
TZOFFSETTO:-0500
TZNAME:CDT
DTSTART:20250309T080000
END:DAYLIGHT
BEGIN:STANDARD
TZOFFSETFROM:-0500
TZOFFSETTO:-0600
TZNAME:CST
DTSTART:20251102T070000
END:STANDARD
BEGIN:DAYLIGHT
TZOFFSETFROM:-0600
TZOFFSETTO:-0500
TZNAME:CDT
DTSTART:20260308T080000
END:DAYLIGHT
BEGIN:STANDARD
TZOFFSETFROM:-0500
TZOFFSETTO:-0600
TZNAME:CST
DTSTART:20261101T070000
END:STANDARD
BEGIN:DAYLIGHT
TZOFFSETFROM:-0600
TZOFFSETTO:-0500
TZNAME:CDT
DTSTART:20270314T080000
END:DAYLIGHT
BEGIN:STANDARD
TZOFFSETFROM:-0500
TZOFFSETTO:-0600
TZNAME:CST
DTSTART:20271107T070000
END:STANDARD
END:VTIMEZONE
BEGIN:VEVENT
DTSTART;TZID=America/Chicago:20260215T083000
DTEND;TZID=America/Chicago:20260215T094500
DTSTAMP:20260422T051536
CREATED:20260210T143640Z
LAST-MODIFIED:20260210T143642Z
UID:10002476-1771144200-1771148700@stjohnvalleyne.com
SUMMARY:OCIA (Family Room/Classroom #5)
DESCRIPTION:OCIA\, meeting in Family Room or Classroom #5\, (with the exception of Oct. 5 will meet in classroom #5)\nQuestions\, contact Deacon Tom
URL:https://stjohnvalleyne.com/event/ocia-family-room-classroom-5-7/2026-02-15/
LOCATION:Family Room\, 307 E. Meigs Street\, Valley\, NE\, 68064
ORGANIZER;CN="Deacon Tom Manhart":MAILTO:dcntom@stjohnvalleyne.com
END:VEVENT
BEGIN:VEVENT
DTSTART;TZID=America/Chicago:20260215T084500
DTEND;TZID=America/Chicago:20260215T094500
DTSTAMP:20260422T051536
CREATED:20250611T180747Z
LAST-MODIFIED:20250611T182257Z
UID:10001910-1771145100-1771148700@stjohnvalleyne.com
SUMMARY:Choir Practice
DESCRIPTION:Choir Practice\nQuestions\, contact Tamera Loftis
URL:https://stjohnvalleyne.com/event/choir-practice-4/2026-02-15/
LOCATION:Pope John Paul II Room\, 307 E. Meigs Street\, Valley\, NE\, 68064
ORGANIZER;CN="Tamera Loftis":MAILTO:tloftis4401@gmail.com
END:VEVENT
BEGIN:VEVENT
DTSTART;TZID=America/Chicago:20260215T100000
DTEND;TZID=America/Chicago:20260215T110000
DTSTAMP:20260422T051536
CREATED:20250923T165609Z
LAST-MODIFIED:20250923T191811Z
UID:10002692-1771149600-1771153200@stjohnvalleyne.com
SUMMARY:Pre-School/Pre-K/Kindergarten RF (Classrooms 6 & 7)
DESCRIPTION:Pre-School/Pre-K/Kindergarten RF (Classrooms 6 & 7)\nQuestions\, contact Molly Zach at 402-359-5783 ext. 212 or visit of Faith Formation page
URL:https://stjohnvalleyne.com/event/pre-school-pre-k-kindergarten-rf-classrooms-6-7-2/2026-02-15/
LOCATION:Classroom #6\, 307 E. Meigs Street\, Valley\, NE\, 68064
ORGANIZER;CN="Molly Zach":MAILTO:molly@stjohnvalleyne.com
END:VEVENT
BEGIN:VEVENT
DTSTART;TZID=America/Chicago:20260215T170000
DTEND;TZID=America/Chicago:20260215T210000
DTSTAMP:20260422T051536
CREATED:20260112T140204Z
LAST-MODIFIED:20260112T140204Z
UID:10002828-1771174800-1771189200@stjohnvalleyne.com
SUMMARY:Pitch and Pray (St. Cecilia Conf. Room)
DESCRIPTION:Pitch n’ Pray\nCome join an evening of cards and prayer. \n\nOpen to anyone in the parish whether you are a pitch pro or beginner\nBring your own beverages and a snack to share\nAfter every 8 hands you switch tables\nBegin each evening with a prayer and end each evening with a prayer and petitions
URL:https://stjohnvalleyne.com/event/pitch-and-pray-st-cecilia-conf-room-3/
LOCATION:St. Cecilia Confrence Room\, 307 E. Meigs Street\, Valley\, 68064\, United States
END:VEVENT
END:VCALENDAR