BEGIN:VCALENDAR
VERSION:2.0
PRODID:-//St. John the Evangelist Catholic Church of Valley - ECPv6.15.20//NONSGML v1.0//EN
CALSCALE:GREGORIAN
METHOD:PUBLISH
X-WR-CALNAME:St. John the Evangelist Catholic Church of Valley
X-ORIGINAL-URL:https://stjohnvalleyne.com
X-WR-CALDESC:Events for St. John the Evangelist Catholic Church of Valley
REFRESH-INTERVAL;VALUE=DURATION:PT1H
X-Robots-Tag:noindex
X-PUBLISHED-TTL:PT1H
BEGIN:VTIMEZONE
TZID:America/Chicago
BEGIN:DAYLIGHT
TZOFFSETFROM:-0600
TZOFFSETTO:-0500
TZNAME:CDT
DTSTART:20250309T080000
END:DAYLIGHT
BEGIN:STANDARD
TZOFFSETFROM:-0500
TZOFFSETTO:-0600
TZNAME:CST
DTSTART:20251102T070000
END:STANDARD
BEGIN:DAYLIGHT
TZOFFSETFROM:-0600
TZOFFSETTO:-0500
TZNAME:CDT
DTSTART:20260308T080000
END:DAYLIGHT
BEGIN:STANDARD
TZOFFSETFROM:-0500
TZOFFSETTO:-0600
TZNAME:CST
DTSTART:20261101T070000
END:STANDARD
BEGIN:DAYLIGHT
TZOFFSETFROM:-0600
TZOFFSETTO:-0500
TZNAME:CDT
DTSTART:20270314T080000
END:DAYLIGHT
BEGIN:STANDARD
TZOFFSETFROM:-0500
TZOFFSETTO:-0600
TZNAME:CST
DTSTART:20271107T070000
END:STANDARD
END:VTIMEZONE
BEGIN:VEVENT
DTSTART;TZID=America/Chicago:20260204T070000
DTEND;TZID=America/Chicago:20260204T080000
DTSTAMP:20260422T045103
CREATED:20250806T155521Z
LAST-MODIFIED:20250806T155824Z
UID:10002400-1770188400-1770192000@stjohnvalleyne.com
SUMMARY:CEC Grouping
DESCRIPTION:CEC Private Grouping\nFor more information regarding CEC visit https://cecomaha.org/
URL:https://stjohnvalleyne.com/event/cec-grouping/2026-02-04/
LOCATION:Gathering Area\, Meeting Room
END:VEVENT
BEGIN:VEVENT
DTSTART;TZID=America/Chicago:20260204T070000
DTEND;TZID=America/Chicago:20260204T080000
DTSTAMP:20260422T045103
CREATED:20250806T155606Z
LAST-MODIFIED:20250806T155740Z
UID:10002348-1770188400-1770192000@stjohnvalleyne.com
SUMMARY:CEC Grouping
DESCRIPTION:CEC Private Grouping\nFor more information regarding CEC visit https://cecomaha.org/
URL:https://stjohnvalleyne.com/event/cec-grouping-2/2026-02-04/
LOCATION:Family Room\, 307 E. Meigs Street\, Valley\, NE\, 68064
END:VEVENT
BEGIN:VEVENT
DTSTART;TZID=America/Chicago:20260204T170000
DTEND;TZID=America/Chicago:20260204T180000
DTSTAMP:20260422T045103
CREATED:20250917T180456Z
LAST-MODIFIED:20250917T180456Z
UID:10002542-1770224400-1770228000@stjohnvalleyne.com
SUMMARY:CEC Grouping
DESCRIPTION:CEC Private Grouping\nFor more information regarding CEC visit https://cecomaha.org/
URL:https://stjohnvalleyne.com/event/cec-grouping-3/2026-02-04/
LOCATION:Meeting Room\, 307 E Meigs St\, Valley\, NE\, 68064\, United States
END:VEVENT
BEGIN:VEVENT
DTSTART;TZID=America/Chicago:20260204T184500
DTEND;TZID=America/Chicago:20260204T200000
DTSTAMP:20260422T045103
CREATED:20250923T135828Z
LAST-MODIFIED:20250923T135828Z
UID:10002591-1770230700-1770235200@stjohnvalleyne.com
SUMMARY:1st-8th Grade RF(All Classrooms & Parish Hall)
DESCRIPTION:1st-8th Grade RF (All Classrooms & Parish Hall)\nQuestions\, contact Molly Zach at 402-359-5783 ext. 212 or visit our Faith Formation page
URL:https://stjohnvalleyne.com/event/1st-8th-grade-rfall-classrooms-parish-hall/2026-02-04/
LOCATION:Classroom #5\, 307 E. Meigs Street\, Valley\, NE\, 68064
ORGANIZER;CN="Molly Zach":MAILTO:molly@stjohnvalleyne.com
END:VEVENT
BEGIN:VEVENT
DTSTART;TZID=America/Chicago:20260204T190000
DTEND;TZID=America/Chicago:20260204T200000
DTSTAMP:20260422T045103
CREATED:20250923T141039Z
LAST-MODIFIED:20250923T141041Z
UID:10002621-1770231600-1770235200@stjohnvalleyne.com
SUMMARY:RF Mass
DESCRIPTION:RF Mass\nQuestions\, contact Molly at 402-359-5783 ext. 212
URL:https://stjohnvalleyne.com/event/rf-mass-2-2-2/2026-02-04/
LOCATION:Sanctuary\, 307 E. Meigs Street\, Valley\, NE\, 68064
ORGANIZER;CN="Molly Zach":MAILTO:molly@stjohnvalleyne.com
END:VEVENT
END:VCALENDAR