BEGIN:VCALENDAR
VERSION:2.0
PRODID:-//St. John the Evangelist Catholic Church of Valley - ECPv6.15.20//NONSGML v1.0//EN
CALSCALE:GREGORIAN
METHOD:PUBLISH
X-WR-CALNAME:St. John the Evangelist Catholic Church of Valley
X-ORIGINAL-URL:https://stjohnvalleyne.com
X-WR-CALDESC:Events for St. John the Evangelist Catholic Church of Valley
REFRESH-INTERVAL;VALUE=DURATION:PT1H
X-Robots-Tag:noindex
X-PUBLISHED-TTL:PT1H
BEGIN:VTIMEZONE
TZID:America/Chicago
BEGIN:DAYLIGHT
TZOFFSETFROM:-0600
TZOFFSETTO:-0500
TZNAME:CDT
DTSTART:20240310T080000
END:DAYLIGHT
BEGIN:STANDARD
TZOFFSETFROM:-0500
TZOFFSETTO:-0600
TZNAME:CST
DTSTART:20241103T070000
END:STANDARD
BEGIN:DAYLIGHT
TZOFFSETFROM:-0600
TZOFFSETTO:-0500
TZNAME:CDT
DTSTART:20250309T080000
END:DAYLIGHT
BEGIN:STANDARD
TZOFFSETFROM:-0500
TZOFFSETTO:-0600
TZNAME:CST
DTSTART:20251102T070000
END:STANDARD
BEGIN:DAYLIGHT
TZOFFSETFROM:-0600
TZOFFSETTO:-0500
TZNAME:CDT
DTSTART:20260308T080000
END:DAYLIGHT
BEGIN:STANDARD
TZOFFSETFROM:-0500
TZOFFSETTO:-0600
TZNAME:CST
DTSTART:20261101T070000
END:STANDARD
END:VTIMEZONE
BEGIN:VEVENT
DTSTART;TZID=America/Chicago:20250907T080000
DTEND;TZID=America/Chicago:20250907T110000
DTSTAMP:20260425T160058
CREATED:20240528T204645Z
LAST-MODIFIED:20240528T204645Z
UID:10000345-1757232000-1757242800@stjohnvalleyne.com
SUMMARY:Donut Sunday (Parish Hall)
DESCRIPTION:Donut Sunday after the 7:30am & 10am Masses in the parish hall
URL:https://stjohnvalleyne.com/event/donut-sunday-parish-hall/2025-09-07/
LOCATION:Parish Hall\, 307 E Meigs Street\, Valley\, NE\, 68064\, United States
ORGANIZER;CN="Knights of Columbus-GK Chris Little":MAILTO:chrislittle73@gmail.com
END:VEVENT
BEGIN:VEVENT
DTSTART;TZID=America/Chicago:20250907T084000
DTEND;TZID=America/Chicago:20250907T094500
DTSTAMP:20260425T160058
CREATED:20250903T193748Z
LAST-MODIFIED:20250903T193748Z
UID:10002453-1757234400-1757238300@stjohnvalleyne.com
SUMMARY:OCIA (Family Room/Classroom #5)
DESCRIPTION:OCIA\, meeting in Family Room or Classroom #5\, (with the exception of Oct. 5 will meet in classroom #5)\nQuestions\, contact Deacon Tom
URL:https://stjohnvalleyne.com/event/ocia-family-room-classroom-5/2025-09-07/
LOCATION:Family Room\, 307 E. Meigs Street\, Valley\, NE\, 68064
ORGANIZER;CN="Deacon Tom Manhart":MAILTO:dcntom@stjohnvalleyne.com
END:VEVENT
BEGIN:VEVENT
DTSTART;TZID=America/Chicago:20250907T100000
DTEND;TZID=America/Chicago:20250907T110000
DTSTAMP:20260425T160058
CREATED:20250923T165609Z
LAST-MODIFIED:20250923T191811Z
UID:10002666-1757239200-1757242800@stjohnvalleyne.com
SUMMARY:Pre-School/Pre-K/Kindergarten RF (Classrooms 6 & 7)
DESCRIPTION:Pre-School/Pre-K/Kindergarten RF (Classrooms 6 & 7)\nQuestions\, contact Molly Zach at 402-359-5783 ext. 212 or visit of Faith Formation page
URL:https://stjohnvalleyne.com/event/pre-school-pre-k-kindergarten-rf-classrooms-6-7-2/2025-09-07/
LOCATION:Classroom #6\, 307 E. Meigs Street\, Valley\, NE\, 68064
ORGANIZER;CN="Molly Zach":MAILTO:molly@stjohnvalleyne.com
END:VEVENT
END:VCALENDAR