BEGIN:VCALENDAR
VERSION:2.0
PRODID:-//St. John the Evangelist Catholic Church of Valley - ECPv6.15.20//NONSGML v1.0//EN
CALSCALE:GREGORIAN
METHOD:PUBLISH
X-ORIGINAL-URL:https://stjohnvalleyne.com
X-WR-CALDESC:Events for St. John the Evangelist Catholic Church of Valley
REFRESH-INTERVAL;VALUE=DURATION:PT1H
X-Robots-Tag:noindex
X-PUBLISHED-TTL:PT1H
BEGIN:VTIMEZONE
TZID:America/Chicago
BEGIN:DAYLIGHT
TZOFFSETFROM:-0600
TZOFFSETTO:-0500
TZNAME:CDT
DTSTART:20240310T080000
END:DAYLIGHT
BEGIN:STANDARD
TZOFFSETFROM:-0500
TZOFFSETTO:-0600
TZNAME:CST
DTSTART:20241103T070000
END:STANDARD
BEGIN:DAYLIGHT
TZOFFSETFROM:-0600
TZOFFSETTO:-0500
TZNAME:CDT
DTSTART:20250309T080000
END:DAYLIGHT
BEGIN:STANDARD
TZOFFSETFROM:-0500
TZOFFSETTO:-0600
TZNAME:CST
DTSTART:20251102T070000
END:STANDARD
BEGIN:DAYLIGHT
TZOFFSETFROM:-0600
TZOFFSETTO:-0500
TZNAME:CDT
DTSTART:20260308T080000
END:DAYLIGHT
BEGIN:STANDARD
TZOFFSETFROM:-0500
TZOFFSETTO:-0600
TZNAME:CST
DTSTART:20261101T070000
END:STANDARD
END:VTIMEZONE
BEGIN:VEVENT
DTSTART;TZID=America/Chicago:20250824T111500
DTEND;TZID=America/Chicago:20250824T131500
DTSTAMP:20260425T103828
CREATED:20250806T154349Z
LAST-MODIFIED:20250808T131706Z
UID:10002310-1756034100-1756041300@stjohnvalleyne.com
SUMMARY:Safe Environment Training
DESCRIPTION:Safe Environment Training\, location TBD\nQuestions\, contact Molly Zach 402-359-5783 ext. 212
URL:https://stjohnvalleyne.com/event/safe-environment-training-3/
LOCATION:St. Cecilia Confrence Room\, 307 E. Meigs Street\, Valley\, 68064\, United States
ORGANIZER;CN="Molly Zach":MAILTO:molly@stjohnvalleyne.com
END:VEVENT
END:VCALENDAR