BEGIN:VCALENDAR
VERSION:2.0
PRODID:-//St. John the Evangelist Catholic Church of Valley - ECPv6.15.20//NONSGML v1.0//EN
CALSCALE:GREGORIAN
METHOD:PUBLISH
X-WR-CALNAME:St. John the Evangelist Catholic Church of Valley
X-ORIGINAL-URL:https://stjohnvalleyne.com
X-WR-CALDESC:Events for St. John the Evangelist Catholic Church of Valley
REFRESH-INTERVAL;VALUE=DURATION:PT1H
X-Robots-Tag:noindex
X-PUBLISHED-TTL:PT1H
BEGIN:VTIMEZONE
TZID:America/Chicago
BEGIN:DAYLIGHT
TZOFFSETFROM:-0600
TZOFFSETTO:-0500
TZNAME:CDT
DTSTART:20240310T080000
END:DAYLIGHT
BEGIN:STANDARD
TZOFFSETFROM:-0500
TZOFFSETTO:-0600
TZNAME:CST
DTSTART:20241103T070000
END:STANDARD
BEGIN:DAYLIGHT
TZOFFSETFROM:-0600
TZOFFSETTO:-0500
TZNAME:CDT
DTSTART:20250309T080000
END:DAYLIGHT
BEGIN:STANDARD
TZOFFSETFROM:-0500
TZOFFSETTO:-0600
TZNAME:CST
DTSTART:20251102T070000
END:STANDARD
BEGIN:DAYLIGHT
TZOFFSETFROM:-0600
TZOFFSETTO:-0500
TZNAME:CDT
DTSTART:20260308T080000
END:DAYLIGHT
BEGIN:STANDARD
TZOFFSETFROM:-0500
TZOFFSETTO:-0600
TZNAME:CST
DTSTART:20261101T070000
END:STANDARD
END:VTIMEZONE
BEGIN:VEVENT
DTSTART;TZID=America/Chicago:20250814T080000
DTEND;TZID=America/Chicago:20250814T110000
DTSTAMP:20260423T130835
CREATED:20240530T215846Z
LAST-MODIFIED:20251030T153240Z
UID:10000464-1755158400-1755169200@stjohnvalleyne.com
SUMMARY:Siena Francis Food Drive (Parish Hall Kitchen)
DESCRIPTION:Siena Francis Food Drive. Drop off 2nd Wednesday of the Month from 8am-8pm and 2nd Thursday of the Month from 8am-Noon.  The truck leave on Thursday at 11am\, to drop off the meal donations. Questions or to volunteer to help\, visit our ‘Get Involved’ page
URL:https://stjohnvalleyne.com/event/siena-francis-food-drive-parish-hall-2/2025-08-14/
LOCATION:Parish Hall-Kitchen\, 307 E. Meigs Street\, Valley\, NE\, 68064
ORGANIZER;CN="Beth Kudlacz":MAILTO:msmek1@gmail.com
END:VEVENT
BEGIN:VEVENT
DTSTART;TZID=America/Chicago:20250814T100000
DTEND;TZID=America/Chicago:20250814T110000
DTSTAMP:20260423T130835
CREATED:20250409T155349Z
LAST-MODIFIED:20250924T152135Z
UID:10001572-1755165600-1755169200@stjohnvalleyne.com
SUMMARY:Tai-Chi Class (Parish Hall)
DESCRIPTION:Transform Your Mind and Body with Tai Chi  (Meets on the 1st\, 2nd and 4th Thursday in the Parish Hall\, the 3rd Thursday is in the St. Oscar Romero Room)\nJoin our Tai Chi class today and experience the perfect blend of movement\, relaxation\, and mindfulness! \nWhether you’re looking to reduce stress\, improve flexibility\, or enhance your overall well-being\, Tai Chi offers a gentle yet powerful practice suitable for all ages and fitness levels.  Classes are Every Thursday at 10am in the St. John’s Parish Hall. Classes are from 30-45 minutes.\nQuestions\, contact Rolly Kleeman
URL:https://stjohnvalleyne.com/event/tai-chi-class/2025-08-14/
LOCATION:Parish Hall\, 307 E Meigs Street\, Valley\, NE\, 68064\, United States
END:VEVENT
BEGIN:VEVENT
DTSTART;TZID=America/Chicago:20250814T110000
DTEND;TZID=America/Chicago:20250814T140000
DTSTAMP:20260423T130835
CREATED:20250723T182451Z
LAST-MODIFIED:20250723T182451Z
UID:10002189-1755169200-1755180000@stjohnvalleyne.com
SUMMARY:Funeral Mass
DESCRIPTION:Funeral Mass for Chuck Buscher at 11am
URL:https://stjohnvalleyne.com/event/funeral-mass-5/
LOCATION:Sanctuary\, 307 E. Meigs Street\, Valley\, NE\, 68064
END:VEVENT
BEGIN:VEVENT
DTSTART;TZID=America/Chicago:20250814T173000
DTEND;TZID=America/Chicago:20250814T183000
DTSTAMP:20260423T130835
CREATED:20250728T172324Z
LAST-MODIFIED:20250728T172353Z
UID:10002191-1755192600-1755196200@stjohnvalleyne.com
SUMMARY:The Assumption of the Blessed Virgin Mary-Vigil
DESCRIPTION:Vigil Mass- The Assumption of the Blessed Virgin Mary
URL:https://stjohnvalleyne.com/event/the-assumption-of-the-blessed-virgin-mary-vigil/
LOCATION:Sanctuary\, 307 E. Meigs Street\, Valley\, NE\, 68064
END:VEVENT
BEGIN:VEVENT
DTSTART;TZID=America/Chicago:20250814T190000
DTEND;TZID=America/Chicago:20250814T203000
DTSTAMP:20260423T130835
CREATED:20250625T123117Z
LAST-MODIFIED:20250625T123117Z
UID:10002002-1755198000-1755203400@stjohnvalleyne.com
SUMMARY:Knights of Columbus Officer Meeting (Pope St. John XXIII Room)
DESCRIPTION:Knights of Columbus Officer Meeting at 7pm
URL:https://stjohnvalleyne.com/event/knights-of-columbus-officer-meeting-pope-st-john-xxiii-room/
LOCATION:Pope St. John XXIII\, 307 E. Meigs Street\, Valley\, NE\, 68064
ORGANIZER;CN="Grand Knight Craig Tylski":MAILTO:craginski@gpcom.net
END:VEVENT
END:VCALENDAR