BEGIN:VCALENDAR
VERSION:2.0
PRODID:-//St. John the Evangelist Catholic Church of Valley - ECPv6.15.20//NONSGML v1.0//EN
CALSCALE:GREGORIAN
METHOD:PUBLISH
X-ORIGINAL-URL:https://stjohnvalleyne.com
X-WR-CALDESC:Events for St. John the Evangelist Catholic Church of Valley
REFRESH-INTERVAL;VALUE=DURATION:PT1H
X-Robots-Tag:noindex
X-PUBLISHED-TTL:PT1H
BEGIN:VTIMEZONE
TZID:America/Chicago
BEGIN:DAYLIGHT
TZOFFSETFROM:-0600
TZOFFSETTO:-0500
TZNAME:CDT
DTSTART:20240310T080000
END:DAYLIGHT
BEGIN:STANDARD
TZOFFSETFROM:-0500
TZOFFSETTO:-0600
TZNAME:CST
DTSTART:20241103T070000
END:STANDARD
BEGIN:DAYLIGHT
TZOFFSETFROM:-0600
TZOFFSETTO:-0500
TZNAME:CDT
DTSTART:20250309T080000
END:DAYLIGHT
BEGIN:STANDARD
TZOFFSETFROM:-0500
TZOFFSETTO:-0600
TZNAME:CST
DTSTART:20251102T070000
END:STANDARD
BEGIN:DAYLIGHT
TZOFFSETFROM:-0600
TZOFFSETTO:-0500
TZNAME:CDT
DTSTART:20260308T080000
END:DAYLIGHT
BEGIN:STANDARD
TZOFFSETFROM:-0500
TZOFFSETTO:-0600
TZNAME:CST
DTSTART:20261101T070000
END:STANDARD
END:VTIMEZONE
BEGIN:VEVENT
DTSTART;TZID=America/Chicago:20250731T090000
DTEND;TZID=America/Chicago:20250731T230000
DTSTAMP:20260421T161751
CREATED:20250710T181645Z
LAST-MODIFIED:20250806T160027Z
UID:10002134-1753952400-1754002800@stjohnvalleyne.com
SUMMARY:Moms Group (St. Cecilia Conf. Rm.)
DESCRIPTION:Calling all Moms!\nWhether your children are toddlers or fully grown\, this is a space for faith\, friendship\, and encouragement in every stage of motherhood. Join us on Thursday mornings in the St. Cecilia Conference Room\nCome as you are-share\, laugh\, pray and grow with other women walking the beautiful journey of motherhood\nThursday Mornings at 9am!  Kids are more than welcome!\nAll are welcome to join us for Mass at 8:30am and Adoration (Adoration immediately following Mass)
URL:https://stjohnvalleyne.com/event/moms-group/2025-07-31/
LOCATION:St. Cecilia Confrence Room\, 307 E. Meigs Street\, Valley\, 68064\, United States
END:VEVENT
BEGIN:VEVENT
DTSTART;TZID=America/Chicago:20250731T100000
DTEND;TZID=America/Chicago:20250731T110000
DTSTAMP:20260421T161751
CREATED:20250409T155349Z
LAST-MODIFIED:20250924T152135Z
UID:10001570-1753956000-1753959600@stjohnvalleyne.com
SUMMARY:Tai-Chi Class (Parish Hall)
DESCRIPTION:Transform Your Mind and Body with Tai Chi  (Meets on the 1st\, 2nd and 4th Thursday in the Parish Hall\, the 3rd Thursday is in the St. Oscar Romero Room)\nJoin our Tai Chi class today and experience the perfect blend of movement\, relaxation\, and mindfulness! \nWhether you’re looking to reduce stress\, improve flexibility\, or enhance your overall well-being\, Tai Chi offers a gentle yet powerful practice suitable for all ages and fitness levels.  Classes are Every Thursday at 10am in the St. John’s Parish Hall. Classes are from 30-45 minutes.\nQuestions\, contact Rolly Kleeman
URL:https://stjohnvalleyne.com/event/tai-chi-class/2025-07-31/
LOCATION:Parish Hall\, 307 E Meigs Street\, Valley\, NE\, 68064\, United States
END:VEVENT
END:VCALENDAR