BEGIN:VCALENDAR
VERSION:2.0
PRODID:-//St. John the Evangelist Catholic Church of Valley - ECPv6.15.20//NONSGML v1.0//EN
CALSCALE:GREGORIAN
METHOD:PUBLISH
X-ORIGINAL-URL:https://stjohnvalleyne.com
X-WR-CALDESC:Events for St. John the Evangelist Catholic Church of Valley
REFRESH-INTERVAL;VALUE=DURATION:PT1H
X-Robots-Tag:noindex
X-PUBLISHED-TTL:PT1H
BEGIN:VTIMEZONE
TZID:America/Chicago
BEGIN:DAYLIGHT
TZOFFSETFROM:-0600
TZOFFSETTO:-0500
TZNAME:CDT
DTSTART:20240310T080000
END:DAYLIGHT
BEGIN:STANDARD
TZOFFSETFROM:-0500
TZOFFSETTO:-0600
TZNAME:CST
DTSTART:20241103T070000
END:STANDARD
BEGIN:DAYLIGHT
TZOFFSETFROM:-0600
TZOFFSETTO:-0500
TZNAME:CDT
DTSTART:20250309T080000
END:DAYLIGHT
BEGIN:STANDARD
TZOFFSETFROM:-0500
TZOFFSETTO:-0600
TZNAME:CST
DTSTART:20251102T070000
END:STANDARD
BEGIN:DAYLIGHT
TZOFFSETFROM:-0600
TZOFFSETTO:-0500
TZNAME:CDT
DTSTART:20260308T080000
END:DAYLIGHT
BEGIN:STANDARD
TZOFFSETFROM:-0500
TZOFFSETTO:-0600
TZNAME:CST
DTSTART:20261101T070000
END:STANDARD
END:VTIMEZONE
BEGIN:VEVENT
DTSTART;TZID=America/Chicago:20250713T080000
DTEND;TZID=America/Chicago:20250713T120000
DTSTAMP:20260425T054407
CREATED:20250520T183507Z
LAST-MODIFIED:20250520T183507Z
UID:10001898-1752393600-1752408000@stjohnvalleyne.com
SUMMARY:Donut Sunday (Parish Hall)
DESCRIPTION:Donut Sunday after the 7:30am & 10am Masses in the parish hall
URL:https://stjohnvalleyne.com/event/donut-sunday-parish-hall-3/
ORGANIZER;CN="Knights of Columbus-Vern Ortmeier":MAILTO:vortmeier@ymail.com
END:VEVENT
BEGIN:VEVENT
DTSTART;TZID=America/Chicago:20250713T081500
DTEND;TZID=America/Chicago:20250713T093000
DTSTAMP:20260425T054407
CREATED:20250611T185201Z
LAST-MODIFIED:20250611T185201Z
UID:10001935-1752394500-1752399000@stjohnvalleyne.com
SUMMARY:SVdP Meeting (St. Cecilia)
DESCRIPTION:SVdP Meeting at 8:15am
URL:https://stjohnvalleyne.com/event/svdp-meeting-st-cecilia-3/
LOCATION:St. Cecilia Confrence Room\, 307 E. Meigs Street\, Valley\, 68064\, United States
ORGANIZER;CN="SVdP-Carol Kindig":MAILTO:kindiger4@msn.com
END:VEVENT
END:VCALENDAR