BEGIN:VCALENDAR
VERSION:2.0
PRODID:-//St. John the Evangelist Catholic Church of Valley - ECPv6.15.20//NONSGML v1.0//EN
CALSCALE:GREGORIAN
METHOD:PUBLISH
X-ORIGINAL-URL:https://stjohnvalleyne.com
X-WR-CALDESC:Events for St. John the Evangelist Catholic Church of Valley
REFRESH-INTERVAL;VALUE=DURATION:PT1H
X-Robots-Tag:noindex
X-PUBLISHED-TTL:PT1H
BEGIN:VTIMEZONE
TZID:America/Chicago
BEGIN:DAYLIGHT
TZOFFSETFROM:-0600
TZOFFSETTO:-0500
TZNAME:CDT
DTSTART:20230312T080000
END:DAYLIGHT
BEGIN:STANDARD
TZOFFSETFROM:-0500
TZOFFSETTO:-0600
TZNAME:CST
DTSTART:20231105T070000
END:STANDARD
BEGIN:DAYLIGHT
TZOFFSETFROM:-0600
TZOFFSETTO:-0500
TZNAME:CDT
DTSTART:20240310T080000
END:DAYLIGHT
BEGIN:STANDARD
TZOFFSETFROM:-0500
TZOFFSETTO:-0600
TZNAME:CST
DTSTART:20241103T070000
END:STANDARD
BEGIN:DAYLIGHT
TZOFFSETFROM:-0600
TZOFFSETTO:-0500
TZNAME:CDT
DTSTART:20250309T080000
END:DAYLIGHT
BEGIN:STANDARD
TZOFFSETFROM:-0500
TZOFFSETTO:-0600
TZNAME:CST
DTSTART:20251102T070000
END:STANDARD
END:VTIMEZONE
BEGIN:VEVENT
DTSTART;TZID=America/Chicago:20240918T184500
DTEND;TZID=America/Chicago:20240918T200000
DTSTAMP:20260421T001011
CREATED:20240828T194734Z
LAST-MODIFIED:20240828T195129Z
UID:10000884-1726685100-1726689600@stjohnvalleyne.com
SUMMARY:The Eucharist in the Bible\, Bible Study (St. Cecilia)
DESCRIPTION:Discover God’s plan as it is expressed through the Bible and the liturgy. Join Deacon Tom for a six-lesson DVD study\, “The Eucharist in Scripture” presented by Dr. Scott Hahn. This study will unlock the meaning of covenant\, sacrifice\, and sacrament as understood in the Bible\, from Genesis through Revelation.  There is no charge for this study.\nQuestions\, Contact Deacon Tom
URL:https://stjohnvalleyne.com/event/the-eucharist-in-the-bible-bible-study-st-cecilia/2024-09-18/
LOCATION:St. Cecilia Confrence Room\, 307 E. Meigs Street\, Valley\, 68064\, United States
ORGANIZER;CN="Deacon Tom Manhart":MAILTO:dcntom@stjohnvalleyne.com
END:VEVENT
BEGIN:VEVENT
DTSTART;TZID=America/Chicago:20240918T184500
DTEND;TZID=America/Chicago:20240918T200000
DTSTAMP:20260421T001011
CREATED:20241118T163942Z
LAST-MODIFIED:20241118T163942Z
UID:10000852-1726685100-1726689600@stjohnvalleyne.com
SUMMARY:1st-8th Grade RF(All Classrooms & Parish Hall)
DESCRIPTION:1st-8th Grade RF (All Classrooms & Parish Hall)\nQuestions\, contact Molly Zach at 402-359-5783 ext. 212
URL:https://stjohnvalleyne.com/event/1st-8th-grade-rfall-classrooms-parish-hall-3/2024-09-18/
LOCATION:St. Katharine Drexel\, 307 E. Meigs Street\, Valley\, NE\, 68064
ORGANIZER;CN="Molly Zach":MAILTO:molly@stjohnvalleyne.com
END:VEVENT
END:VCALENDAR