BEGIN:VCALENDAR
VERSION:2.0
PRODID:-//St. John the Evangelist Catholic Church of Valley - ECPv6.15.20//NONSGML v1.0//EN
CALSCALE:GREGORIAN
METHOD:PUBLISH
X-ORIGINAL-URL:https://stjohnvalleyne.com
X-WR-CALDESC:Events for St. John the Evangelist Catholic Church of Valley
REFRESH-INTERVAL;VALUE=DURATION:PT1H
X-Robots-Tag:noindex
X-PUBLISHED-TTL:PT1H
BEGIN:VTIMEZONE
TZID:America/Chicago
BEGIN:DAYLIGHT
TZOFFSETFROM:-0600
TZOFFSETTO:-0500
TZNAME:CDT
DTSTART:20230312T080000
END:DAYLIGHT
BEGIN:STANDARD
TZOFFSETFROM:-0500
TZOFFSETTO:-0600
TZNAME:CST
DTSTART:20231105T070000
END:STANDARD
BEGIN:DAYLIGHT
TZOFFSETFROM:-0600
TZOFFSETTO:-0500
TZNAME:CDT
DTSTART:20240310T080000
END:DAYLIGHT
BEGIN:STANDARD
TZOFFSETFROM:-0500
TZOFFSETTO:-0600
TZNAME:CST
DTSTART:20241103T070000
END:STANDARD
BEGIN:DAYLIGHT
TZOFFSETFROM:-0600
TZOFFSETTO:-0500
TZNAME:CDT
DTSTART:20250309T080000
END:DAYLIGHT
BEGIN:STANDARD
TZOFFSETFROM:-0500
TZOFFSETTO:-0600
TZNAME:CST
DTSTART:20251102T070000
END:STANDARD
END:VTIMEZONE
BEGIN:VEVENT
DTSTART;TZID=America/Chicago:20240906T090000
DTEND;TZID=America/Chicago:20240906T110000
DTSTAMP:20260421T000211
CREATED:20240826T193237Z
LAST-MODIFIED:20240826T193341Z
UID:10000836-1725613200-1725620400@stjohnvalleyne.com
SUMMARY:Respect for Life Ministry Meeting (at St. Patrick's)
DESCRIPTION:Together with our parish family\, St. Patrick’s\, join us for our respect for life ministry. Meeting this month will be held at St Patrick’s Parish Center
URL:https://stjohnvalleyne.com/event/respect-for-life-ministry-meeting-at-st-patricks/
LOCATION:St. Patricks Catholic Church\, 20500 W Maple Road\, Elkhorn\, 68022\, United States
ORGANIZER;CN="Sarah Burgess":MAILTO:seclark34@live.com
END:VEVENT
BEGIN:VEVENT
DTSTART;TZID=America/Chicago:20240906T180000
DTEND;TZID=America/Chicago:20240906T190000
DTSTAMP:20260421T000211
CREATED:20240531T021439Z
LAST-MODIFIED:20240531T021439Z
UID:10000626-1725645600-1725649200@stjohnvalleyne.com
SUMMARY:First Friday Eucharistic Adoration
DESCRIPTION:First Friday Eucharistic Adoration at 6pm
URL:https://stjohnvalleyne.com/event/first-friday-eucharistic-adoration/2024-09-06/
LOCATION:Sanctuary\, 307 E. Meigs Street\, Valley\, NE\, 68064
ORGANIZER;CN="Deacon Tom Manhart":MAILTO:dcntom@stjohnvalleyne.com
END:VEVENT
END:VCALENDAR