BEGIN:VCALENDAR
VERSION:2.0
PRODID:-//St. John the Evangelist Catholic Church of Valley - ECPv6.15.20//NONSGML v1.0//EN
CALSCALE:GREGORIAN
METHOD:PUBLISH
X-WR-CALNAME:St. John the Evangelist Catholic Church of Valley
X-ORIGINAL-URL:https://stjohnvalleyne.com
X-WR-CALDESC:Events for St. John the Evangelist Catholic Church of Valley
REFRESH-INTERVAL;VALUE=DURATION:PT1H
X-Robots-Tag:noindex
X-PUBLISHED-TTL:PT1H
BEGIN:VTIMEZONE
TZID:America/Chicago
BEGIN:DAYLIGHT
TZOFFSETFROM:-0600
TZOFFSETTO:-0500
TZNAME:CDT
DTSTART:20230312T080000
END:DAYLIGHT
BEGIN:STANDARD
TZOFFSETFROM:-0500
TZOFFSETTO:-0600
TZNAME:CST
DTSTART:20231105T070000
END:STANDARD
BEGIN:DAYLIGHT
TZOFFSETFROM:-0600
TZOFFSETTO:-0500
TZNAME:CDT
DTSTART:20240310T080000
END:DAYLIGHT
BEGIN:STANDARD
TZOFFSETFROM:-0500
TZOFFSETTO:-0600
TZNAME:CST
DTSTART:20241103T070000
END:STANDARD
BEGIN:DAYLIGHT
TZOFFSETFROM:-0600
TZOFFSETTO:-0500
TZNAME:CDT
DTSTART:20250309T080000
END:DAYLIGHT
BEGIN:STANDARD
TZOFFSETFROM:-0500
TZOFFSETTO:-0600
TZNAME:CST
DTSTART:20251102T070000
END:STANDARD
END:VTIMEZONE
BEGIN:VEVENT
DTSTART;TZID=America/Chicago:20240825T110000
DTEND;TZID=America/Chicago:20240825T150000
DTSTAMP:20260421T050146
CREATED:20240724T181640Z
LAST-MODIFIED:20240724T181640Z
UID:10000755-1724583600-1724598000@stjohnvalleyne.com
SUMMARY:Safe Environment Training
DESCRIPTION:St. John’s will be hosting our own Safe Environment training for any and all volunteers in our Church. Safe Environment is the Archdiocese of Omaha’s requirement\, for any volunteers in our Churches. If you are volunteering through the Church in any capacity this training is a requirement. It takes a village (Parish Community) to work together and create the Safest Environment for all of our Parishioners.
URL:https://stjohnvalleyne.com/event/safe-environment-training/
LOCATION:Parish Hall\, 307 E Meigs Street\, Valley\, NE\, 68064\, United States
ORGANIZER;CN="Molly Zach":MAILTO:molly@stjohnvalleyne.com
END:VEVENT
END:VCALENDAR