BEGIN:VCALENDAR
VERSION:2.0
PRODID:-//St. John the Evangelist Catholic Church of Valley - ECPv6.15.20//NONSGML v1.0//EN
CALSCALE:GREGORIAN
METHOD:PUBLISH
X-ORIGINAL-URL:https://stjohnvalleyne.com
X-WR-CALDESC:Events for St. John the Evangelist Catholic Church of Valley
REFRESH-INTERVAL;VALUE=DURATION:PT1H
X-Robots-Tag:noindex
X-PUBLISHED-TTL:PT1H
BEGIN:VTIMEZONE
TZID:America/Chicago
BEGIN:DAYLIGHT
TZOFFSETFROM:-0600
TZOFFSETTO:-0500
TZNAME:CDT
DTSTART:20230312T080000
END:DAYLIGHT
BEGIN:STANDARD
TZOFFSETFROM:-0500
TZOFFSETTO:-0600
TZNAME:CST
DTSTART:20231105T070000
END:STANDARD
BEGIN:DAYLIGHT
TZOFFSETFROM:-0600
TZOFFSETTO:-0500
TZNAME:CDT
DTSTART:20240310T080000
END:DAYLIGHT
BEGIN:STANDARD
TZOFFSETFROM:-0500
TZOFFSETTO:-0600
TZNAME:CST
DTSTART:20241103T070000
END:STANDARD
BEGIN:DAYLIGHT
TZOFFSETFROM:-0600
TZOFFSETTO:-0500
TZNAME:CDT
DTSTART:20250309T080000
END:DAYLIGHT
BEGIN:STANDARD
TZOFFSETFROM:-0500
TZOFFSETTO:-0600
TZNAME:CST
DTSTART:20251102T070000
END:STANDARD
END:VTIMEZONE
BEGIN:VEVENT
DTSTART;TZID=America/Chicago:20240531T103000
DTEND;TZID=America/Chicago:20240531T150000
DTSTAMP:20260423T114209
CREATED:20240528T192756Z
LAST-MODIFIED:20240528T192840Z
UID:10000143-1717151400-1717167600@stjohnvalleyne.com
SUMMARY:Visitation & Memorial Mass
DESCRIPTION:Visitation & Memorial Mass for Larry Saunders. Visitation 10:30-11:30am\, with the Memorial Service to follow at 11:30am. Luncheon will follow in the parish hall after\nhttps://www.reichmuthfuneralhomes.com/obituaries/Larry-Saunders-10/#!/Obituary
URL:https://stjohnvalleyne.com/event/visitation-memorial-mass/
LOCATION:Sanctuary\, 307 E. Meigs Street\, Valley\, NE\, 68064
END:VEVENT
BEGIN:VEVENT
DTSTART;TZID=America/Chicago:20240531T200000
DTEND;TZID=America/Chicago:20240531T213000
DTSTAMP:20260423T114209
CREATED:20240528T191613Z
LAST-MODIFIED:20240528T191613Z
UID:10000142-1717185600-1717191000@stjohnvalleyne.com
SUMMARY:Quinceañera Rehearsal(Church)
DESCRIPTION:Quinceañera Rehearsal(Church)
URL:https://stjohnvalleyne.com/event/quinceanera-rehearsalchurch/
LOCATION:NE
END:VEVENT
END:VCALENDAR